BEGIN:VCALENDAR
VERSION:2.0
PRODID:-//BüzE - Bürgerzentrum Ehrenfeld e.V. - ECPv6.15.20//NONSGML v1.0//EN
CALSCALE:GREGORIAN
METHOD:PUBLISH
X-ORIGINAL-URL:https://bueze.de
X-WR-CALDESC:Veranstaltungen für BüzE - Bürgerzentrum Ehrenfeld e.V.
REFRESH-INTERVAL;VALUE=DURATION:PT1H
X-Robots-Tag:noindex
X-PUBLISHED-TTL:PT1H
BEGIN:VTIMEZONE
TZID:Europe/Berlin
BEGIN:DAYLIGHT
TZOFFSETFROM:+0100
TZOFFSETTO:+0200
TZNAME:CEST
DTSTART:20220327T010000
END:DAYLIGHT
BEGIN:STANDARD
TZOFFSETFROM:+0200
TZOFFSETTO:+0100
TZNAME:CET
DTSTART:20221030T010000
END:STANDARD
BEGIN:DAYLIGHT
TZOFFSETFROM:+0100
TZOFFSETTO:+0200
TZNAME:CEST
DTSTART:20230326T010000
END:DAYLIGHT
BEGIN:STANDARD
TZOFFSETFROM:+0200
TZOFFSETTO:+0100
TZNAME:CET
DTSTART:20231029T010000
END:STANDARD
BEGIN:DAYLIGHT
TZOFFSETFROM:+0100
TZOFFSETTO:+0200
TZNAME:CEST
DTSTART:20240331T010000
END:DAYLIGHT
BEGIN:STANDARD
TZOFFSETFROM:+0200
TZOFFSETTO:+0100
TZNAME:CET
DTSTART:20241027T010000
END:STANDARD
END:VTIMEZONE
BEGIN:VEVENT
DTSTART;TZID=Europe/Berlin:20231214T190000
DTEND;TZID=Europe/Berlin:20231214T230000
DTSTAMP:20260426T013010
CREATED:20231213T122937Z
LAST-MODIFIED:20231213T123043Z
UID:302-1702580400-1702594800@bueze.de
SUMMARY:Offene Bühne im Café Fridolin
DESCRIPTION:Du möchtest deinen wohlverdienten Feierabend in gemütlicher Atmosphäre verbringen und interessierst Dich für Poetry-Slam\, Standup-Comedy oder lässt Dich gerne von Live-Musik berieseln? Dann komm bei uns im Café vorbei und erlebe unsere offene Bühne. Und falls du zukünftig bei uns auf der Bühne stehen willst freuen wir uns auf deine Mail an cafe@bueze.de!
URL:https://bueze.de/event/offene-buehne-im-cafe-fridolin/
ATTACH;FMTTYPE=image/jpeg:https://bueze.de/wp-content/uploads/2023/12/offene_buehne_dez_23-scaled.jpg
END:VEVENT
END:VCALENDAR