BEGIN:VCALENDAR
VERSION:2.0
PRODID:-//BüzE - Bürgerzentrum Ehrenfeld e.V. - ECPv6.15.20//NONSGML v1.0//EN
CALSCALE:GREGORIAN
METHOD:PUBLISH
X-ORIGINAL-URL:https://bueze.de
X-WR-CALDESC:Veranstaltungen für BüzE - Bürgerzentrum Ehrenfeld e.V.
REFRESH-INTERVAL;VALUE=DURATION:PT1H
X-Robots-Tag:noindex
X-PUBLISHED-TTL:PT1H
BEGIN:VTIMEZONE
TZID:Europe/Berlin
BEGIN:DAYLIGHT
TZOFFSETFROM:+0100
TZOFFSETTO:+0200
TZNAME:CEST
DTSTART:20230326T010000
END:DAYLIGHT
BEGIN:STANDARD
TZOFFSETFROM:+0200
TZOFFSETTO:+0100
TZNAME:CET
DTSTART:20231029T010000
END:STANDARD
BEGIN:DAYLIGHT
TZOFFSETFROM:+0100
TZOFFSETTO:+0200
TZNAME:CEST
DTSTART:20240331T010000
END:DAYLIGHT
BEGIN:STANDARD
TZOFFSETFROM:+0200
TZOFFSETTO:+0100
TZNAME:CET
DTSTART:20241027T010000
END:STANDARD
BEGIN:DAYLIGHT
TZOFFSETFROM:+0100
TZOFFSETTO:+0200
TZNAME:CEST
DTSTART:20250330T010000
END:DAYLIGHT
BEGIN:STANDARD
TZOFFSETFROM:+0200
TZOFFSETTO:+0100
TZNAME:CET
DTSTART:20251026T010000
END:STANDARD
END:VTIMEZONE
BEGIN:VEVENT
DTSTART;TZID=Europe/Berlin:20240301T200000
DTEND;TZID=Europe/Berlin:20240301T233000
DTSTAMP:20260425T201906
CREATED:20240222T162053Z
LAST-MODIFIED:20240222T162242Z
UID:1301-1709323200-1709335800@bueze.de
SUMMARY:First Friday
DESCRIPTION:Ich tanze\,meine Musik\,mein Veedel\,mein Feierabend. \n\n\n\n\n\n\n\nOb Oldies oder Charts\, Rock\, Pop & Soul – DJane Walumm heizt euch ein. Tanzen zu den Hits aller Jahre\, bei lockerer Atmosphäre mit neuen Leuten und alten Freunden. \n\n\n\n\n\n\n\nFirst Friday – Jeden 1. Freitag im Monat im BüzE.  \n\n\n\n\n\n\n\nIm Sommer bei schönem Wetter mit Grill auf der Terrasse. \n\n\n\n\n\n\n\nEinlass: 19 UhrEintritt frei! 
URL:https://bueze.de/event/first-friday/
ATTACH;FMTTYPE=image/jpeg:https://bueze.de/wp-content/uploads/2024/02/27972139_1700399490022698_7973397932418453527_n.jpg
END:VEVENT
BEGIN:VEVENT
DTSTART;TZID=Europe/Berlin:20240303T100000
DTEND;TZID=Europe/Berlin:20240303T160000
DTSTAMP:20260425T201906
CREATED:20240222T154654Z
LAST-MODIFIED:20240222T155317Z
UID:1266-1709460000-1709481600@bueze.de
SUMMARY:Handwerks- und Flohmarkt
DESCRIPTION:Auch in diesem Jahr geht es weiter mit unserem Handwerksmarkt und Flohmarkt: Am Sonntag könnt ihr wieder in entspannter Atmosphäre über den Handwerks- und Flohmarkt im BüzE schlendern🎉 Wir freuen uns schon auf einen schönen Tag mit euch🌞 \n\n\n\n\n\n\n\nAnmeldungen zum Verkauf hier. \n\n\n\n\n\n\n\n12€ pro Tisch\, Kleine Kleiderständer 2\,- €\, große Kleiderständer 5\,- €.
URL:https://bueze.de/event/handwerks-und-flohmarkt/
ATTACH;FMTTYPE=image/jpeg:https://bueze.de/wp-content/uploads/2024/01/flohmarkt-scaled.jpg
END:VEVENT
BEGIN:VEVENT
DTSTART;TZID=Europe/Berlin:20240303T190000
DTEND;TZID=Europe/Berlin:20240303T230000
DTSTAMP:20260425T201906
CREATED:20240222T155017Z
LAST-MODIFIED:20240222T155337Z
UID:1268-1709492400-1709506800@bueze.de
SUMMARY:Ecstatic Dance
DESCRIPTION:Ecstatic Dance ist eine so tolle Kombination aus Bewegung\, Spaß Meditation\, Tiefgang und \n\n\n\nHorizonterweiterung. Ein richtig gutes Tool um sich mit Freude im Herzen in neue Dimensionen \n\n\n\nhinein weiterzuentwickeln. Endlich mal ein Raum\, in der keine Bewegung zu verrückt ist. Dem Körper die Kontrolle zu übergeben ist eine Form der Reinigung. \n\n\n\n\n\n\n\nEinlass 19:00 Uhr\, Beginn 19:30 Uhr\, Ende 23 Uhr  \n\n\n\n\n\n\n\n@ecstaticdancekoeln \n\n\n\n\n\n\n\n15€ ermäßigt\, 20€ Regulär\, 25€ Supporter
URL:https://bueze.de/event/ecstatic-dance-2/
ATTACH;FMTTYPE=image/png:https://bueze.de/wp-content/uploads/2024/02/14.png
END:VEVENT
BEGIN:VEVENT
DTSTART;TZID=Europe/Berlin:20240307T190000
DTEND;TZID=Europe/Berlin:20240307T220000
DTSTAMP:20260425T201906
CREATED:20240222T155245Z
LAST-MODIFIED:20240222T155355Z
UID:1271-1709838000-1709848800@bueze.de
SUMMARY:Die Offene Bühne im Café Fridolin
DESCRIPTION:Die offene Bühne lädt euch dazu ein den Abend in gemütlicher Atmosphäre gemeinsam ausklingen zu lassen. Dabei könnt ihr dem bunten Programm aus den Bereichen Poetry-Slam\, Lyrik\, Musik\, aber auch Standup-Comedy lauschen. \n\n\n\n\n\n\n\nIn gemütlicher Atmosphäre kann den Kulturschaffenden ab 19 Uhr zugehört werden. \n\n\n\n\n\n\n\nDie offene Bühne ist frei von Rassismus\, Sexismus\, Homofeindlichkeit und jeglicher Art von Intoleranz und Ausgrenzung. Wir bitten alle Besucher*innen um ein respektvolles Miteinander. \n\n\n\n\n\n\n\nUnd es gibt sogar noch freie Plätze: Falls du Lust hast\, einmal auf unserer Bühne zu stehen\, melde dich hier oder per Mail an cafe@bueze.de
URL:https://bueze.de/event/die-offene-buehne-im-cafe-fridolin/
ATTACH;FMTTYPE=image/jpeg:https://bueze.de/wp-content/uploads/2024/02/rausgegangen-scaled.jpg
END:VEVENT
BEGIN:VEVENT
DTSTART;TZID=Europe/Berlin:20240308T190000
DTEND;TZID=Europe/Berlin:20240308T220000
DTSTAMP:20260425T201906
CREATED:20240222T155545Z
LAST-MODIFIED:20240222T155610Z
UID:1274-1709924400-1709935200@bueze.de
SUMMARY:Schmickler
DESCRIPTION:Zum internationalen Frauentag am Freitag den 8. März haben wir WILFRIED SCHMICKLER ins BÜZE-Köln-Ehrenfeld\, Venloerstr. 429\, eingeladen und Angela Bearbock ausgeladen. Sein Programm „Es hört nicht auf“ erklärt uns \, was geht\, und was nicht geht. \n\n\n\n\n\n\n\nEintritt 21 Euro\, \n\n\n\nEinlass 19 Uhr\, Beginn 20 Uhr. \n\n\n\n\n\n\n\nMit Speisen und bekömmlichen Gesöff. \n\n\n\n\n\n\n\nReservierung über Kontakt; www.eschtkabarett.de
URL:https://bueze.de/event/schmickler/
ATTACH;FMTTYPE=image/jpeg:https://bueze.de/wp-content/uploads/2024/02/419299091_7711351065560687_1959312691481703384_n.jpg
END:VEVENT
BEGIN:VEVENT
DTSTART;TZID=Europe/Berlin:20240309T200000
DTEND;TZID=Europe/Berlin:20240309T230000
DTSTAMP:20260425T201906
CREATED:20240222T160148Z
LAST-MODIFIED:20240228T104258Z
UID:1278-1710014400-1710025200@bueze.de
SUMMARY:Start75 Album-Release-Konzert mit Bitume\, Wick Bambix und Tobey Trueblood
DESCRIPTION:Start75 ist das Soloprojekt von Thorsten\, bekannt von Bands wie „Blenden“ und „derdickePolizist“. Am heutigen Abend präsentiert Start75 zum ersten Mal in in ihrer Heimatstadt live ihr Album.  \n\n\n\nMit dabei Bitume aus Oldenburg\, Wick Bambix aus Nimwegen und Tobey Trueblood aus Köln. \n\n\n\nEs wird ein abwechslungsreicher Abend aus einer genreübergreifenden Mischung aus Singer- SongwriterInnen mit akustischen Klängen\, purem Punkrock und nicht zuletzt energiegeladen Gitarrenrock mit Synthesizersounds. Anschließend findet noch eine After-Show-Party mit Konservenmusik quer durch die Musikgeschichte statt.
URL:https://bueze.de/event/start75-album-release-konzert-mit-bitume-wick-bambix-und-tobey-trueblood/
ATTACH;FMTTYPE=image/png:https://bueze.de/wp-content/uploads/2024/02/Bildschirmfoto-2024-02-22-um-17.00.30.png
END:VEVENT
BEGIN:VEVENT
DTSTART;TZID=Europe/Berlin:20240315T190000
DTEND;TZID=Europe/Berlin:20240315T230000
DTSTAMP:20260425T201906
CREATED:20240222T160513Z
LAST-MODIFIED:20240222T160514Z
UID:1282-1710529200-1710543600@bueze.de
SUMMARY:Escht Kabarett
DESCRIPTION:Verschiedene Künstlerinnen und Künstler trotzen der Welt. Durch das Programm führt der Bühnenköbes Mit Grill-Spass & Gesöff.  \n\n\n\n\n\n\n\nEinlass 19 Uhr (Grill-Eröffnung) Beginn 20 Uhr Eintritt 10 Euro \n\n\n\n\n\n\n\nReservierung über termine@eschtkabarett.de
URL:https://bueze.de/event/escht-kabarett/
ATTACH;FMTTYPE=image/jpeg:https://bueze.de/wp-content/uploads/2024/01/ESCHT-Katze-HP.jpg
END:VEVENT
BEGIN:VEVENT
DTSTART;TZID=Europe/Berlin:20240317T160000
DTEND;TZID=Europe/Berlin:20240317T180000
DTSTAMP:20260425T201906
CREATED:20240222T160832Z
LAST-MODIFIED:20240222T160848Z
UID:1284-1710691200-1710698400@bueze.de
SUMMARY:Sven van Thom - "Spuckesatz"
DESCRIPTION:Sven van Thom kommt am 17. März zu uns & er ist kein Unbekannter\, denn er ist regelmäßig in der Sendung SingAlarm von ZDF und KiKa zu Gast\, wurde 2018 mit dem „Das Weberlein“ ausgezeichnet\, 2023 mit dem „Deutschen Kinderliederpreis“ und hat einen eigenen Tonie. \n\n\n\n\n\n\n\nDer Multiinstrumentalist bringt ein kleines Arsenal an Musikinstrumenten mit zu uns ins BüzE – von der Gitarre oder der Ukulele\, über den Bass\, bis zum Drumsynthesizer und skurrilen Geräten wie Theremin oder Omnichord. Doch all das wird nicht darüber hinwegtäuschen können\, dass Sven van Thoms Lieder vor allem eins sind: hochgradig unterhaltsam und verdammt lustig\, sodass sowohl Kinder als auch deren Aufsichtspersonen einen fantastisches Konzerterlebnis erwarten können.
URL:https://bueze.de/event/sven-van-thom-spuckesatz/
ATTACH;FMTTYPE=image/jpeg:https://bueze.de/wp-content/uploads/2024/02/SvT-Kinder1080x1350.jpg
END:VEVENT
BEGIN:VEVENT
DTSTART;TZID=Europe/Berlin:20240321T110000
DTEND;TZID=Europe/Berlin:20240321T123000
DTSTAMP:20260425T201906
CREATED:20240222T161017Z
LAST-MODIFIED:20240222T161100Z
UID:1288-1711018800-1711024200@bueze.de
SUMMARY:Philamonie Veedel Pänz „Papierstück“
DESCRIPTION:Es knistert und raschelt\, lässt sich falten\, zerknüllen und zerreißen\, es ist biegsam\, formbar und kannauch  schneiden: Papier. Genau wie Papier »merkt« sich auch unser Körper jede Erfahrung und bekommt Falten\, Macken und Narben. Auch in den Körper der 75-jährigen Tänzerin Sônia Mota sind viele Erinnerungen und Erlebnisse eingeschrieben. Gemeinsam mit dem Geiger Albrecht Maurer und dem Komponisten Jörg Ritzenhoff erweckt sie diese zum Leben – mit Bewegungen\, Melodien und knisternden Sounds. Zu dritt  wagen sie sich in diesem Tanzkonzert in einen musikalischen Papierdschungel\, in dem es sogar ein Papierschlagzeug und eine Papierorgel gibt. \n\n\n\n\n\n\n\nTickets: https://tickets.koelner-philharmonie.de/webshop/webticket/bestseatselect?eventId=6833
URL:https://bueze.de/event/philamonie-veedel-paenz-papierstueck/
ATTACH;FMTTYPE=image/png:https://bueze.de/wp-content/uploads/2024/02/Bildschirmfoto-2024-02-22-um-16.29.50.png
END:VEVENT
BEGIN:VEVENT
DTSTART;TZID=Europe/Berlin:20240321T180000
DTEND;TZID=Europe/Berlin:20240321T220000
DTSTAMP:20260425T201906
CREATED:20240222T161326Z
LAST-MODIFIED:20240222T161520Z
UID:1292-1711044000-1711058400@bueze.de
SUMMARY:Newroz pîroz be
DESCRIPTION:Wir laden euch herzlich ein gemeinsam mit uns das kurdische Neujahrsfest zu feiern! \n\n\n\n\n\n\n\nNewroz ist ein Fest des Neubeginns und gehört zu den wichtigsten kurdischen Feiertagen. Es steht für den Beginn des Frühlings und dient als Symbol für die Sehnsucht nach Frieden und Freiheit. \n\n\n\n\n\n\n\nNewroz ist eine der wichtigsten Säulen der kurdischen Identität\, denn es steht seit jeher für den Kampf der Anerkennung und somit für den Kampf wesentlicher Grund- und Menschenrechte. Zusammen mit unserer Initiative #koelnerhelfen und dem Verein #staedtepartnerschaftkoelnqamishlo laden wir euch ein diesen Tag im Bürgerzentrum Ehrenfeld mit uns zu feiern. Es wird ein kurzes Programm mit Beiträgen und Berichten geben\, danach möchten wir den Abend zusammen mit euch\, Essen und Trinken\, Musik und Tanz ausklingen lassen. \n\n\n\n\n\n\n\nDer Eintritt ist frei\, Spenden erwünscht.
URL:https://bueze.de/event/newroz-piroz-be/
ATTACH;FMTTYPE=image/jpeg:https://bueze.de/wp-content/uploads/2024/02/428285999_414310251267321_4528607058493825868_n.jpg
END:VEVENT
BEGIN:VEVENT
DTSTART;TZID=Europe/Berlin:20240324T180000
DTEND;TZID=Europe/Berlin:20240324T233000
DTSTAMP:20260425T201906
CREATED:20240319T121947Z
LAST-MODIFIED:20240319T122730Z
UID:1342-1711303200-1711323000@bueze.de
SUMMARY:BüzE Bricht das Fasten
DESCRIPTION:Ramadan bringt uns zusammen. Was die deutsche Gesellschaft in diesem heiligen Monat oft außer Acht lässt\, ist\, dass er sich nicht nur auf das Fasten beschränkt. Es bedeutet mehr als das: Es bedeutet Kommunikation\, Harmonie\, Spiritualität und Zeit für Familie und Freunde.Seit vielen Jahren organisieren wir verschiedene Veranstaltungen zum gemeinsamen Fastenbrechen (Iftar). Auch in diesem Jahr freuen wir uns darauf\, uns wieder in einem multireligiösen Umfeld zu treffen\, zu essen und spannende Gespräche zu führen. Neben „BüzE – Ehrenfeld bricht das Fasten“\, bei dem Vielfalt und die Überwindung von Unterschieden im Mittelpunkt stehen\, sowie die Möglichkeit\, im kleinen Familienkreis am Fastenbrechen mit einer muslimischen Familie teilzunehmen. \n\n\n\n\n\n\n\nFür weitere Informationen und um die Teilnahme zu bestätigen\, rufen Sie bitte die folgenden Nummern an: \n\n\n\n\n\n\n\n015733696733015751064564 \n\n\n\n\n\n\n\nJede Familie wird gebeten\, ihr eigenes Frühstück mitzubringe.n \n\n\n\n\n\n\n\nFür Tee\, Kaffee und Wasser wird gesorgtWir bereiten ein gemeinsames Buffet vor.
URL:https://bueze.de/event/bueze-bricht-das-fasten/
ATTACH;FMTTYPE=image/jpeg:https://bueze.de/wp-content/uploads/2024/03/received_1131202974739763.jpeg
END:VEVENT
BEGIN:VEVENT
DTSTART;TZID=Europe/Berlin:20240327T170000
DTEND;TZID=Europe/Berlin:20240327T190000
DTSTAMP:20260425T201906
CREATED:20240319T115002Z
LAST-MODIFIED:20240319T115053Z
UID:1335-1711558800-1711566000@bueze.de
SUMMARY:Spendenannahme Umsonstladen
DESCRIPTION:Am 27.März ist wieder soweit\, unser Umsonstladen ist auf der Suche nach Sachspenden👢👖🧦 \n\n\n\n\n\n\n\nDie Sachen gehen an Menschen weiter\, bringt also nur tadellose Ware. Sachen die nicht einer guten Qualität entsprechen werden nicht angenommen. \n\n\n\n\n\n\n\nGesucht werden: \n\n\n\nÜbergangskleidung für Männer\, Frauen und KinderBettwäscheSchuhe \n\n\n\n\n\n\n\n17:00 bis 19:00 \n\n\n\n\n\n\n\nim Umsonstladen des Bürgerzentrum Ehrenfeld 🏡 \n\n\n\nWir freuen uns auf euch!
URL:https://bueze.de/event/spendenannahme-umsonstladen-2/
ATTACH;FMTTYPE=image/jpeg:https://bueze.de/wp-content/uploads/2024/03/annahme_maerz-scaled.jpg
END:VEVENT
END:VCALENDAR