BEGIN:VCALENDAR
VERSION:2.0
PRODID:-//BüzE - Bürgerzentrum Ehrenfeld e.V. - ECPv6.15.20//NONSGML v1.0//EN
CALSCALE:GREGORIAN
METHOD:PUBLISH
X-WR-CALNAME:BüzE - Bürgerzentrum Ehrenfeld e.V.
X-ORIGINAL-URL:https://bueze.de
X-WR-CALDESC:Veranstaltungen für BüzE - Bürgerzentrum Ehrenfeld e.V.
REFRESH-INTERVAL;VALUE=DURATION:PT1H
X-Robots-Tag:noindex
X-PUBLISHED-TTL:PT1H
BEGIN:VTIMEZONE
TZID:Europe/Berlin
BEGIN:DAYLIGHT
TZOFFSETFROM:+0100
TZOFFSETTO:+0200
TZNAME:CEST
DTSTART:20230326T010000
END:DAYLIGHT
BEGIN:STANDARD
TZOFFSETFROM:+0200
TZOFFSETTO:+0100
TZNAME:CET
DTSTART:20231029T010000
END:STANDARD
BEGIN:DAYLIGHT
TZOFFSETFROM:+0100
TZOFFSETTO:+0200
TZNAME:CEST
DTSTART:20240331T010000
END:DAYLIGHT
BEGIN:STANDARD
TZOFFSETFROM:+0200
TZOFFSETTO:+0100
TZNAME:CET
DTSTART:20241027T010000
END:STANDARD
BEGIN:DAYLIGHT
TZOFFSETFROM:+0100
TZOFFSETTO:+0200
TZNAME:CEST
DTSTART:20250330T010000
END:DAYLIGHT
BEGIN:STANDARD
TZOFFSETFROM:+0200
TZOFFSETTO:+0100
TZNAME:CET
DTSTART:20251026T010000
END:STANDARD
END:VTIMEZONE
BEGIN:VEVENT
DTSTART;TZID=Europe/Berlin:20240601T190000
DTEND;TZID=Europe/Berlin:20240601T233000
DTSTAMP:20260425T155152
CREATED:20240515T082853Z
LAST-MODIFIED:20240515T082932Z
UID:1490-1717268400-1717284600@bueze.de
SUMMARY:Käpt’n RUMMELSNUFF & Maat ASBACH 
DESCRIPTION:HafenCasino reloaded!!! \n\n\n\n\n\n\n\nNach längerer Pause läuft nun zum 7. Mal das legendäre HafenCasino vom Stapel: \n\n\n\nLas Vegas Voyage presents: HAFEN CASINO #7 \n\n\n\n\n\n\n\nKeine Angst\, ihr Landratten! Der Käpt’n nimmt Euch mit in den sicheren Hafen… \n\n\n\n\n\n\n\n…Teil #7 unseres beliebten Hafen Casinos präsentiert Euch ein maritimes Feuerwerk erster Kajüte: \n\n\n\n\n\n\n\n* Käpt’n RUMMELSNUFF & Maat ASBACH \n\n\n\nderbe Strommusik \n\n\n\n* ROCKAWAY SHANTY CHOR \n\n\n\nder Punkrock Chor vom Rhein \n\n\n\n* BURLESQUE EXTRAVAGANZA \n\n\n\nmit Mermaid ANNA VENTURE \n\n\n\nweiterhin: Polaroid Souvenirs\, Rum aus Übersee\, Vodka Ahoi und Möwen\, überall Möwen… \n\n\n\n\n\n\n\nDurch den Abend führt Euch wie immer Quartiermeister ‚Rodrigo De la Rosa‘ – der Mann mit dem guten Geschmack!  \n\n\n\n\n\n\n\nSchiff Ahoi! \n\n\n\n\n\n\n\nSa. 01.06.24 | Einlass 19 h | Beginn 20 h
URL:https://bueze.de/event/kaeptn-rummelsnuff-maat-asbach/
ATTACH;FMTTYPE=image/png:https://bueze.de/wp-content/uploads/2024/05/Bildschirmfoto-2024-05-14-um-14.07.45.png
END:VEVENT
BEGIN:VEVENT
DTSTART;TZID=Europe/Berlin:20240602T100000
DTEND;TZID=Europe/Berlin:20240602T160000
DTSTAMP:20260425T155152
CREATED:20240515T082636Z
LAST-MODIFIED:20240515T083005Z
UID:1487-1717322400-1717344000@bueze.de
SUMMARY:Handwerks- & Flohmarkt
DESCRIPTION:Unser Handwerksmarkt &Flohmarkt wartet auf Euch: Am Sonntag könnt ihr wieder in entspannter Atmosphäre über den Markt im BüzE schlendern. Wir freuen uns schon auf einen schönen Tag mit Euch. \n\n\n\n \n\n\n\n\n\n\n\nAnmeldungen zum Verkauf hier. \n\n\n\n\n\n\n\n12€ pro Tisch\, Kleine Kleiderständer 2\,- €\, große Kleiderständer 5\,- €.
URL:https://bueze.de/event/handwerks-flohmarkt/
ATTACH;FMTTYPE=image/jpeg:https://bueze.de/wp-content/uploads/2024/01/flohmarkt-scaled.jpg
END:VEVENT
BEGIN:VEVENT
DTSTART;TZID=Europe/Berlin:20240605T183000
DTEND;TZID=Europe/Berlin:20240605T210000
DTSTAMP:20260425T155152
CREATED:20240605T094433Z
LAST-MODIFIED:20240605T094634Z
UID:1518-1717612200-1717621200@bueze.de
SUMMARY:FreiArt
DESCRIPTION:Queere Kunst ist wertvoll und verdient es ausserhalb eines Clubs präsentiert zu werden.  \n\n\n\n\n\n\n\nErlebe Drag und Musik in all ihren Facetten und lass dich darauf ein verschiedenste Lebensrealitäten kennenzulernen. Freu dich auf einen bunten Wohlfühl-Abend\, der euch zum weinen\, lachen und tanzen bringt.  \n\n\n\nEbenfalls im Fokus steht\, darauf aufmerksam zu machen\, dass das Bürgerzentrum Ehrenfeld auf finanzielle Unterstützung angewiesen ist. Alle Künstler*innen haben sich bereit erklärt haben auf eine Gage zu verzichten\, um das BüzE und die wichtigen Projekte\, die hier stattfinden zu unterstützen. \n\n\n\n\n\n\n\nBesteht der Fall dass du dir das Ticket nicht leisten kannst\, melde dich bitte vorab bei Loona per Instagram (@loonatension) oder per E-mail (loonatension@gmx.de ) und wir finden eine Lösung.  \n\n\n\nFalls du auf Grund einer Schwerbehinderung eine Begleitperson mitbringst\, hat diese selbstverständlich kostenlosen Eintritt. Melde dich bitte auch in diesem Fall vorab bei Loona.Abenkasse 15€ \n\n\n\n\n\n\n\nPreisstaffelung \n\n\n\nRegulär 15€ \n\n\n\nMit diesem Ticketpreis wird die Veranstaltung erst möglich! Wir zahlen davon GEMA\, Security\, Techniker… Die Künstler*innen haben auf eine Gage verzichtet\, um die Veranstaltung überhaupt erst möglich zu machen und um das BüzE zu unterstützen. \n\n\n\n\n\n\n\nUnterstützer*in 20€ \n\n\n\nMit den zusätzlichen Euros unterstützt du die Veranstaltung und das BüzE\, um zukünftig Veranstaltungen wie diese zu ermöglichen. \n\n\n\n\n\n\n\nSuper Unterstützer* in 25€ \n\n\n\nMit den zusätzlichen Euros unterstützt du die Veranstaltung und das BüzE\, um zukünftig Veranstaltungen wie diese zu ermöglichen.
URL:https://bueze.de/event/freiart/
ATTACH;FMTTYPE=image/jpeg:https://bueze.de/wp-content/uploads/2024/06/2.2-4.jpeg
END:VEVENT
BEGIN:VEVENT
DTSTART;TZID=Europe/Berlin:20240607T100000
DTEND;TZID=Europe/Berlin:20240607T150000
DTSTAMP:20260425T155152
CREATED:20240523T113831Z
LAST-MODIFIED:20240523T113905Z
UID:1496-1717754400-1717772400@bueze.de
SUMMARY:Europawahl-Party
DESCRIPTION:Das Kinder- & Jugendforum lädt euch ein!  \n\n\n\n\n\n\n\nAnlässlich der Europawahl & der Senkung des Wahlalters wollen wir eine Wahlparty mit euch feiern🎉 \n\n\n\n\n\n\n\nEs wartet ein spannendes Theaterstück mit anschließender Diskussion mit den Künstler*innen auf euch\, ihr könnt bei einer Wahlsimulation teilnehmen oder eine eigene Partei gründen! 🇪🇺 \n\n\n\n\n\n\n\nWer wissen will\, was noch passiert\, kommt vorbei😉 \n\n\n\n\n\n\n\nWir freuen uns schon sehr auf euch!
URL:https://bueze.de/event/europawahl-party/
ATTACH;FMTTYPE=image/png:https://bueze.de/wp-content/uploads/2024/05/Bildschirmfoto-2024-05-23-um-13.35.41.png
END:VEVENT
BEGIN:VEVENT
DTSTART;TZID=Europe/Berlin:20240608T200000
DTEND;TZID=Europe/Berlin:20240608T233000
DTSTAMP:20260425T155152
CREATED:20240515T081859Z
LAST-MODIFIED:20240515T083033Z
UID:1482-1717876800-1717889400@bueze.de
SUMMARY:Escht Kabarett-Special
DESCRIPTION:Brauchen wir für den 3.Weltkrieg deutsche Atombomben ? \n\n\n\n\n\n\n\nEin kulturell-kabarettistischer-politischer Abend zum EU-Thema „Klimawandel und Erderwärmung mal ruckzuck“ Strack-Zimmermann\, Spitzenkandidatin der FDP\, will sie\, Katharina Barley von der SPD auch\, Ursula von der Leyen sowieso und die Grünen selbstverständlich auch: Eine eigene europäische Armee  \n\n\n\nneben der NATO\, mit eigenem „nuklearen Schutzschirm“! \n\n\n\n\n\n\n\nWir meinen: Die Militarisierung der Politik \, Gesellschaft und ihrer Medien wird immer dreister! Das müssen wir auch werden. Passend zur EU-Wahl am darauf folgenden Sonntag (09.06) geben Künstler/Innen und Expert/Innen im Rhythmus internationaler Spannungen ihr Bestes (mit geschätzten Wahlprognosen und Wählerwanderungen) \n\n\n\n\n\n\n\nMit Grill-Spass & Gesöff \n\n\n\nMit dabei sind ; \n\n\n\nAndreas Zumach („Taz“ & Co.) \n\n\n\nWilfried Schmickler  (Kabarett) \n\n\n\nStefan Reusch (SWR 3) \n\n\n\nFriedemann Wiese (heute-show) \n\n\n\nSabine Domogala \n\n\n\nThomas Lienenlüke & \n\n\n\ndas Gesangs-Trio „Tanz den Oppenheimer“ \n\n\n\nTorsten Schlosser \n\n\n\n\n\n\n\nEintritt 10 Euro \n\n\n\nEinlass 18 Uhr \n\n\n\nBeginn 19 Uhr \n\n\n\n\n\n\n\nReservierung über termine@eschtkabarett.de
URL:https://bueze.de/event/escht-kabarett-special/
ATTACH;FMTTYPE=image/jpeg:https://bueze.de/wp-content/uploads/2024/01/ESCHT-Katze-HP.jpg
END:VEVENT
BEGIN:VEVENT
DTSTART;TZID=Europe/Berlin:20240609T190000
DTEND;TZID=Europe/Berlin:20240609T233000
DTSTAMP:20260425T155152
CREATED:20240515T082446Z
LAST-MODIFIED:20240515T082447Z
UID:1485-1717959600-1717975800@bueze.de
SUMMARY:Ecstatic Dance
DESCRIPTION:Ecstatic Dance ist eine so tolle Kombination aus Bewegung\, Spaß Meditation\, Tiefgang und Horizonterweiterung. Ein richtig gutes Tool um sich mit Freude im Herzen in neue Dimensionen hinein weiterzuentwickeln. Endlich mal ein Raum\, in der keine Bewegung zu verrückt ist. Dem Körper die Kontrolle zu übergeben ist eine Form der Reinigung. \n\n\n\n\n\n\n\nEinlass 19:00 Uhr\, Beginn 19:30 Uhr\, Ende 23 Uhr  \n\n\n\n\n\n\n\n@ecstaticdancekoeln \n\n\n\n\n\n\n\n15€ ermäßigt\, 20€ Regulär\, 25€ Supporter
URL:https://bueze.de/event/ecstatic-dance-4/
END:VEVENT
BEGIN:VEVENT
DTSTART;TZID=Europe/Berlin:20240615T110000
DTEND;TZID=Europe/Berlin:20240615T160000
DTSTAMP:20260425T155152
CREATED:20240515T081651Z
LAST-MODIFIED:20240515T083057Z
UID:1480-1718449200-1718467200@bueze.de
SUMMARY:Repair-Café
DESCRIPTION:Der Küchenmixer streikt? Der Staubsauger hat den Geist aufgegeben? Die Nachttischlampe ist kaputt? \n\n\n\n\n\n\n\nJeden 3. Samstag des Monats im Zeitraum von 11.00 bis 16.00 Uhr startet das Ehrenfelder Repair-Café.  \n\n\n\n\n\n\n\nIm Repair-Café unterstützen ehrenamtliche Reparateur*innen euch dabei\, ihre defekten Haushaltsgeräte zu reparieren. So wird die Lebensdauer von Alltagsgegenständen verlängert und Müll vermieden… & obendrein in netter Atmosphäre bei Kaffee & Kuchen ein Pläuschchen gehalten.
URL:https://bueze.de/event/repair-cafe-2/
ATTACH;FMTTYPE=image/jpeg:https://bueze.de/wp-content/uploads/2023/12/landing5-1.jpg
END:VEVENT
BEGIN:VEVENT
DTSTART;TZID=Europe/Berlin:20240616T150000
DTEND;TZID=Europe/Berlin:20240616T170000
DTSTAMP:20260425T155152
CREATED:20240614T085534Z
LAST-MODIFIED:20240614T085535Z
UID:1534-1718550000-1718557200@bueze.de
SUMMARY:Kölscher Musiknachmittag
DESCRIPTION:
URL:https://bueze.de/event/koelscher-musiknachmittag/
ATTACH;FMTTYPE=image/jpeg:https://bueze.de/wp-content/uploads/2024/06/Eintrittskarten.jpg
END:VEVENT
BEGIN:VEVENT
DTSTART;TZID=Europe/Berlin:20240617T103000
DTEND;TZID=Europe/Berlin:20240617T120000
DTSTAMP:20260425T155152
CREATED:20240515T081506Z
LAST-MODIFIED:20240515T083116Z
UID:1477-1718620200-1718625600@bueze.de
SUMMARY:PhilharmonieVeedel Pänz - »Spiel.Platz.Musik.«
DESCRIPTION:Rutsche\, Schaukel\, Klettergerüst!  \n\n\n\n\n\n\n\nWir entdecken die Klänge eures Spielplatzes. Wie klingen eine Rutsche\, eine Wippe oder eine Schaukel? Und was passiert eigentlich nachts auf dem Spielplatz\, wenn keine Kinder mehr da sind? Ein Ensemble von Musikerinnen und Musikern der Hochschule für Musik und Tanz Köln geht mit zeitgenössischer Musik auf diese Entdeckungsreise. Und dann wird gemeinsam gespielt! 3-2-1 – ich komme! \n\n\n\n\n\n\n\nEine Einladung zu einem musikalischen Spielplatz-Erlebnis\, zum Eintauchen\, Mitmachen und Zurückerinnern. \n\n\n\n\n\n\n\nGefördert vom Kuratorium KölnMusik e. V. \n\n\n\n\n\n\n\nTickets gibt es hier.
URL:https://bueze.de/event/philharmonieveedel-paenz-spiel-platz-musik/
ATTACH;FMTTYPE=image/png:https://bueze.de/wp-content/uploads/2024/05/Bildschirmfoto-2024-05-14-um-14.18.48.png
END:VEVENT
BEGIN:VEVENT
DTSTART;TZID=Europe/Berlin:20240630T150000
DTEND;TZID=Europe/Berlin:20240630T170000
DTSTAMP:20260425T155152
CREATED:20240515T081032Z
LAST-MODIFIED:20240515T083156Z
UID:1471-1719759600-1719766800@bueze.de
SUMMARY:Wolkensteintheater - Parti! bei Eule und Waschbär
DESCRIPTION:Foto: Brigitte Lerho \n\n\n\n\n\nTheater mit Musik für Kinder ab 4 Jahren \n\n\n\n\n\n\n\nMeistens habe Willi Waschbär und Eule Laila es sehr gemütlich in ihrer Waldwohnung und sie sind ja auch schon lange gute Freunde. Und doch gibt es den ganzen Tag lang immer irgend etwas zu entscheiden: wer darf an die Trommel\, das ist aber mein Apfel\, wo sind schon wieder die Gummistiefel\, jetzt hör doch mal auf mit dem Geklimper\, gibt es jetzt Mittagessen\, du weißt doch eh nicht\, was du willst\, aber du hattest gestern schon die kleine Gitarre und du weißt immer alles besser… \n\n\n\n\n\n\n\nZwischen stimmt-ja-gar-nicht und stimmt-ja-wohl finden Laila und Willi ihre Freude an der eigenen Stimme und am selbst-bestimmen. Und sie kriegen natürlich heraus\, wie sie gemeinsam Entscheidungen abstimmen. \n\n\n\n\n\n\n\nIn Erwachsenensprache zusammengefasst: Eule und Waschbär spielen rund um das Kinderrecht auf Partizipation und machen mit viel Musik und Witz Demokratiebildung für Kitakinder.Mehr Infos zum Stück & den Tickets hier.
URL:https://bueze.de/event/wolkensteintheater-parti-bei-eule-und-waschbaer/
ATTACH;FMTTYPE=image/jpeg:https://bueze.de/wp-content/uploads/2024/05/2.2-2-scaled.jpeg
END:VEVENT
END:VCALENDAR