BEGIN:VCALENDAR
VERSION:2.0
PRODID:-//BüzE - Bürgerzentrum Ehrenfeld e.V. - ECPv6.15.20//NONSGML v1.0//EN
CALSCALE:GREGORIAN
METHOD:PUBLISH
X-WR-CALNAME:BüzE - Bürgerzentrum Ehrenfeld e.V.
X-ORIGINAL-URL:https://bueze.de
X-WR-CALDESC:Veranstaltungen für BüzE - Bürgerzentrum Ehrenfeld e.V.
REFRESH-INTERVAL;VALUE=DURATION:PT1H
X-Robots-Tag:noindex
X-PUBLISHED-TTL:PT1H
BEGIN:VTIMEZONE
TZID:Europe/Berlin
BEGIN:DAYLIGHT
TZOFFSETFROM:+0100
TZOFFSETTO:+0200
TZNAME:CEST
DTSTART:20230326T010000
END:DAYLIGHT
BEGIN:STANDARD
TZOFFSETFROM:+0200
TZOFFSETTO:+0100
TZNAME:CET
DTSTART:20231029T010000
END:STANDARD
BEGIN:DAYLIGHT
TZOFFSETFROM:+0100
TZOFFSETTO:+0200
TZNAME:CEST
DTSTART:20240331T010000
END:DAYLIGHT
BEGIN:STANDARD
TZOFFSETFROM:+0200
TZOFFSETTO:+0100
TZNAME:CET
DTSTART:20241027T010000
END:STANDARD
BEGIN:DAYLIGHT
TZOFFSETFROM:+0100
TZOFFSETTO:+0200
TZNAME:CEST
DTSTART:20250330T010000
END:DAYLIGHT
BEGIN:STANDARD
TZOFFSETFROM:+0200
TZOFFSETTO:+0100
TZNAME:CET
DTSTART:20251026T010000
END:STANDARD
END:VTIMEZONE
BEGIN:VEVENT
DTSTART;TZID=Europe/Berlin:20240707T100000
DTEND;TZID=Europe/Berlin:20240707T160000
DTSTAMP:20260425T141446
CREATED:20240618T141835Z
LAST-MODIFIED:20240618T141836Z
UID:1547-1720346400-1720368000@bueze.de
SUMMARY:Handwerks- und Flohmarkt
DESCRIPTION:Unser Handwerksmarkt und Flohmarkt wartet auf Euch: Am Sonntag könnt ihr wieder in entspannter Atmosphäre über den Markt im BüzE schlendern. Wir freuen uns schon auf einen schönen Tag mit Euch. \n\n\n\n\n\n\n\nAnmeldungen zum Verkauf: https://bueze.de/kontaktformular-flohmarkt/. \n\n\n\n\n\n\n\n12€ pro Tisch\, Kleine Kleiderständer 2\,- €\, große Kleiderständer 5\,- €.
URL:https://bueze.de/event/handwerks-und-flohmarkt-4/
ATTACH;FMTTYPE=image/jpeg:https://bueze.de/wp-content/uploads/2024/01/flohmarkt-scaled.jpg
END:VEVENT
BEGIN:VEVENT
DTSTART;TZID=Europe/Berlin:20240707T190000
DTEND;TZID=Europe/Berlin:20240707T220000
DTSTAMP:20260425T141446
CREATED:20240618T142138Z
LAST-MODIFIED:20240618T142139Z
UID:1549-1720378800-1720389600@bueze.de
SUMMARY:Ectstatic Dance
DESCRIPTION:Ecstatic Dance ist eine so tolle Kombination aus Bewegung\, Spaß Meditation\, Tiefgang und Horizonterweiterung. Ein richtig gutes Tool um sich mit Freude im Herzen in neue Dimensionen hinein weiterzuentwickeln.  \n\n\n\n\n\n\n\nEndlich mal ein Raum\, in der keine Bewegung zu verrückt ist. Dem Körper die Kontrolle zu übergeben ist eine Form der Reinigung. \n\n\n\n\n\n\n\nEinlass 19:00 Uhr\, Beginn 19:30 Uhr\, Ende 23 Uhr  \n\n\n\n\n\n\n\n@ecstaticdancekoeln \n\n\n\n15€ ermäßigt\, 20€ Regulär\, 25€ Supporter
URL:https://bueze.de/event/ectstatic-dance/
ATTACH;FMTTYPE=image/png:https://bueze.de/wp-content/uploads/2024/06/Bildschirmfoto-2024-06-18-um-16.21.06.png
END:VEVENT
BEGIN:VEVENT
DTSTART;TZID=Europe/Berlin:20240712T200000
DTEND;TZID=Europe/Berlin:20240712T233000
DTSTAMP:20260425T141446
CREATED:20240618T142304Z
LAST-MODIFIED:20240618T142304Z
UID:1552-1720814400-1720827000@bueze.de
SUMMARY:Escht Kabarett
DESCRIPTION:Verschiedene Künstlerinnen und Künstler trotzen der Welt \, mit vielen Überraschungen. \n\n\n\n\n\n\n\nDurch das Programm führt der Bühnenköbes \n\n\n\n\n\n\n\nMit Grill-Spass & Gesöff. \n\n\n\nEinlass 19 Uhr (Grill-Eröffnung) \n\n\n\nBeginn 20 Uhr \n\n\n\nEintritt 10 Euro \n\n\n\n\n\n\n\nReservierung über termine@eschtkabarett.de
URL:https://bueze.de/event/escht-kabarett-3/
ATTACH;FMTTYPE=image/jpeg:https://bueze.de/wp-content/uploads/2024/01/ESCHT-Katze-HP.jpg
END:VEVENT
BEGIN:VEVENT
DTSTART;TZID=Europe/Berlin:20240713T160000
DTEND;TZID=Europe/Berlin:20240713T190000
DTSTAMP:20260425T141446
CREATED:20240710T144925Z
LAST-MODIFIED:20240710T150532Z
UID:1614-1720886400-1720897200@bueze.de
SUMMARY:Workshop: Die Wirkung von Drogen auf Kulturen
DESCRIPTION:Die Wirkung von Drogen auf Kulturen: \n\n\n\n\n\n\n\nWir wollen das Bewusstsein & das Verständnis für die komplexe Beziehung zwischen Drogen & verschiedenen Kulturen schärfen. Wir möchten ein kritisches Bewusstsein dafür schaffen\, wie Drogen gesellschaftlich wahrgenommen werden & welche Tabus in unterschiedlichen kulturellen Kontexten existieren. \n\n\n\n\n\n\n\nDer Workshop wird bilingual auf Deutsch & Arabisch abgehalten\, um eine breitere Teilnehmer*innenschaft anzusprechen & kulturelle Barrieren zu überbrücken. \n\n\n\n\n\n\n\nDer Workshop wird von Hassan Abdulghani Neurowissenschaftler & Alma Karim Medizinstudentin\, moderiert. \n\n\n\n\n\n\n\nNächsten Samstag\, 13. Juli 2024\, um 16 Uhr im Kleinen Saal im BüzE. \n\n\n\n\n\n\n\nDie Frauengruppe organisiert in Zusammenarbeit mit dem Altaan Kultur Verein den Workshop.
URL:https://bueze.de/event/workshop-die-wirkung-von-drogen-auf-kulturen/
ATTACH;FMTTYPE=image/jpeg:https://bueze.de/wp-content/uploads/2024/07/Drogen-und-Kulturen.jpg
END:VEVENT
BEGIN:VEVENT
DTSTART;TZID=Europe/Berlin:20240714T140000
DTEND;TZID=Europe/Berlin:20240714T220000
DTSTAMP:20260425T141446
CREATED:20240709T113433Z
LAST-MODIFIED:20240709T113434Z
UID:1610-1720965600-1720994400@bueze.de
SUMMARY:Conscious Rave
DESCRIPTION:Conscious Rave: Mini Tages-Festival am 14.7\n\n\n\n\n\n\n\nEin neuartiger Erfahrungsraum für bewusstes Feiern in Verbindung mit dir selbst und anderen! \n\n\n\n\n\n\n\nInspiriert von der Club- und Festivalkultur\, verwurzelt in der ganzheitlichen Gesundheit und Persönlichkeitsentwicklung\, gemeinschaftlich organisiert von einer bunten Mischung an Individuen\, Initiativen und Tribes! \n\n\n\n\n\n\n\n// 3 Ecstatic DJ Sets: die ganze Bandbreite ekstatischer Musik mit viel verbindenden Frequenzen  \n\n\n\n\n\n\n\n// Natural High Bar: die besten alkoholfreien Mocktails\, Shakes & Shots\, um gesund\, legal und natürlich in Stimmung zu kommen  \n\n\n\n\n\n\n\n// Kakao & Singkreis: die verbindende Kraft der Stimme und von Mama Kakao  \n\n\n\n\n\n\n\n// Audiovisual Journeys: die Kraft des Lichts verschmilzt mit sphärischer Musik und verändert unsere Hirnwellen  \n\n\n\n\n\n\n\n// Workshop Area mit verschiedenen Angeboten aus der Welt der ganzheitlichen Gesundheit  \n\n\n\n\n\n\n\n// Breathwork Session zur Aktivierung der maskulinen und femininen Energie in uns  \n\n\n\n\n\n\n\n// und natürlich viel viel Verbindung zu uns selbst und zu andern  \n\n\n\n\n\n\n\nDabei sein: Unser Ziel ist es nicht\, Profit zu maximieren\, sondern jeden willkommen zu heißen\, der sich zu dieser Erfahrung hingezogen fühlt – unabhängig von aktuellen Ressourcen. Daher gibt es eine begrenzte Anzahl an pay-as-you-can Tickets\, sowie Tagestickets inkl. Freigetränk zum fairen Preis.  \n\n\n\n\n\n\n\nAlle Infos und Tickets hier: https://www.tickettailor.com/events/holofyhealth/1266722? \n\n\n\n\n\n\n\nSpread the love – wir freuen uns auf Dich! \n\n\n\n\n\n\n\nEure Conscious Rave Krew ♾️
URL:https://bueze.de/event/conscious-rave/
ATTACH;FMTTYPE=image/png:https://bueze.de/wp-content/uploads/2024/07/Conscious-Rave-Koeln_SM-Post_program_v2_small.png
END:VEVENT
BEGIN:VEVENT
DTSTART;TZID=Europe/Berlin:20240718T183000
DTEND;TZID=Europe/Berlin:20240718T213000
DTSTAMP:20260425T141446
CREATED:20240618T142629Z
LAST-MODIFIED:20240618T142727Z
UID:1554-1721327400-1721338200@bueze.de
SUMMARY:FreiArt II
DESCRIPTION:Queere Kunst ist wertvoll und verdient es ausserhalb eines Clubs präsentiert zu werden. Erlebe Drag und Musik in all ihren Facetten und lass dich darauf ein verschiedenste Lebensrealitäten kennenzulernen. Freu dich auf einen bunten Wohlfühl-Abend\, der euch zum weinen\, lachen und tanzen bringt.  \n\n\n\n\n\n\n\nEbenfalls im Fokus steht\, darauf aufmerksam zu machen\, dass das Bürgerzentrum Ehrenfeld auf finanzielle Unterstützung angewiesen ist. \n\n\n\n\n\n\n\nBesteht der Fall dass du dir das Ticket nicht leisten kannst\, melde dich bitte vorab bei Loona per Instagram (@loonatension) oder per E-mail (loonatension@gmx.de ) und wir finden eine Lösung.  \n\n\n\n\n\n\n\nFalls du auf Grund einer Schwerbehinderung eine Begleitperson mitbringst\, hat diese selbstverständlich kostenlosen Eintritt. Melde dich bitte auch in diesem Fall vorab bei Loona. \n\n\n\n\n\n\n\nPreisstaffelung \n\n\n\n\n\n\n\nRegulär 15€ \n\n\n\nMit diesem Ticketpreis wird die Veranstaltung erst möglich! Wir zahlen davon GEMA\, Security\, Techniker…  \n\n\n\n\n\n\n\nUnterstützer*in 20€ \n\n\n\nMit den zusätzlichen Euros unterstützt du die Veranstaltung und das BüzE\, um zukünftig Veranstaltungen wie diese zu ermöglichen. \n\n\n\n\n\n\n\nSuper Unterstützer* in 25€ \n\n\n\nMit den zusätzlichen Euros unterstützt du die Veranstaltung und das BüzE\, um zukünftig Veranstaltungen wie diese zu ermöglichen.Tickets hier.
URL:https://bueze.de/event/freiart-ii/
ATTACH;FMTTYPE=image/jpeg:https://bueze.de/wp-content/uploads/2024/06/PHOTO-2024-06-13-13-20-47.jpg
END:VEVENT
BEGIN:VEVENT
DTSTART;TZID=Europe/Berlin:20240720T110000
DTEND;TZID=Europe/Berlin:20240720T160000
DTSTAMP:20260425T141446
CREATED:20240618T143024Z
LAST-MODIFIED:20240618T143025Z
UID:1558-1721473200-1721491200@bueze.de
SUMMARY:Repair-Café
DESCRIPTION:Der Küchenmixer streikt? Der Staubsauger hat den Geist aufgegeben? Die Nachttischlampe ist kaputt? \n\n\n\n\n\n\n\nJeden 3. Samstag des Monats im Zeitraum von 11.00 bis 16.00 Uhr startet das Ehrenfelder Repair-Café.  \n\n\n\n\n\n\n\nIm Repair-Café unterstützen ehrenamtliche Reparateur*innen euch dabei\, ihre defekten Haushaltsgeräte zu reparieren. So wird die Lebensdauer von Alltagsgegenständen verlängert und Müll vermieden… & obendrein in netter Atmosphäre bei Kaffee & Kuchen ein Pläuschchen gehalten.
URL:https://bueze.de/event/repair-cafe-3/
ATTACH;FMTTYPE=image/jpeg:https://bueze.de/wp-content/uploads/2023/12/landing5.jpg
END:VEVENT
BEGIN:VEVENT
DTSTART;TZID=Europe/Berlin:20240730T150000
DTEND;TZID=Europe/Berlin:20240730T163000
DTSTAMP:20260425T141446
CREATED:20240618T143459Z
LAST-MODIFIED:20240618T143501Z
UID:1562-1722351600-1722357000@bueze.de
SUMMARY:Wolkensteintheater - Parti! bei Eule und Waschbär
DESCRIPTION:Theater mit Musik für Kinder ab 4 Jahren \n\n\n\n\n\n\n\nMeistens habe Willi Waschbär und Eule Laila es sehr gemütlich in ihrer Waldwohnung und sie sind ja auch schon lange gute Freunde. Und doch gibt es den ganzen Tag lang immer irgend etwas zu entscheiden: wer darf an die Trommel\, das ist aber mein Apfel\, wo sind schon wieder die Gummistiefel\, jetzt hör doch mal auf mit dem Geklimper\, gibt es jetzt Mittagessen\, du weißt doch eh nicht\, was du willst\, aber du hattest gestern schon die kleine Gitarre und du weißt immer alles besser… \n\n\n\n\n\n\n\nZwischen stimmt-ja-gar-nicht und stimmt-ja-wohl finden Laila und Willi ihre Freude an der eigenen Stimme und am selbst-bestimmen. Und sie kriegen natürlich heraus\, wie sie gemeinsam Entscheidungen abstimmen. \n\n\n\n\n\n\n\nIn Erwachsenensprache zusammengefasst: Eule und Waschbär spielen rund um das Kinderrecht auf Partizipation und machen mit viel Musik und Witz Demokratiebildung für Kitakinder. \n\n\n\n\n\n\n\n\nPARTI! bei Eule und Waschbär – Köln- BüzE – 15.00 Uhr
URL:https://bueze.de/event/wolkensteintheater-parti-bei-eule-und-waschbaer-2/
ATTACH;FMTTYPE=image/jpeg:https://bueze.de/wp-content/uploads/2024/06/parti-DSCF0421-750x500-1.jpg
END:VEVENT
END:VCALENDAR