BEGIN:VCALENDAR
VERSION:2.0
PRODID:-//BüzE - Bürgerzentrum Ehrenfeld e.V. - ECPv6.15.20//NONSGML v1.0//EN
CALSCALE:GREGORIAN
METHOD:PUBLISH
X-WR-CALNAME:BüzE - Bürgerzentrum Ehrenfeld e.V.
X-ORIGINAL-URL:https://bueze.de
X-WR-CALDESC:Veranstaltungen für BüzE - Bürgerzentrum Ehrenfeld e.V.
REFRESH-INTERVAL;VALUE=DURATION:PT1H
X-Robots-Tag:noindex
X-PUBLISHED-TTL:PT1H
BEGIN:VTIMEZONE
TZID:Europe/Berlin
BEGIN:DAYLIGHT
TZOFFSETFROM:+0100
TZOFFSETTO:+0200
TZNAME:CEST
DTSTART:20230326T010000
END:DAYLIGHT
BEGIN:STANDARD
TZOFFSETFROM:+0200
TZOFFSETTO:+0100
TZNAME:CET
DTSTART:20231029T010000
END:STANDARD
BEGIN:DAYLIGHT
TZOFFSETFROM:+0100
TZOFFSETTO:+0200
TZNAME:CEST
DTSTART:20240331T010000
END:DAYLIGHT
BEGIN:STANDARD
TZOFFSETFROM:+0200
TZOFFSETTO:+0100
TZNAME:CET
DTSTART:20241027T010000
END:STANDARD
BEGIN:DAYLIGHT
TZOFFSETFROM:+0100
TZOFFSETTO:+0200
TZNAME:CEST
DTSTART:20250330T010000
END:DAYLIGHT
BEGIN:STANDARD
TZOFFSETFROM:+0200
TZOFFSETTO:+0100
TZNAME:CET
DTSTART:20251026T010000
END:STANDARD
END:VTIMEZONE
BEGIN:VEVENT
DTSTART;TZID=Europe/Berlin:20240803T180000
DTEND;TZID=Europe/Berlin:20240803T233000
DTSTAMP:20260425T124003
CREATED:20240719T123602Z
LAST-MODIFIED:20240719T123603Z
UID:1652-1722708000-1722727800@bueze.de
SUMMARY: Salam Dance Workshop
DESCRIPTION:Es gibt nun Kurse im Salam Dance bei uns im BüzE. Geleitet wird das Ganze von Ahmed Fekry\, der freischaffender Tänzer\, Tanzlehrer & Choreograph ist. \n\n\n\n\n\n\n\n\n\n\n\nDieser Tanz ist nicht nur ein kulturelles Erbe\, sondern kann auch ein lebendiger Teil des sozialen Lebens sein & deswegen wollen wir ihn gemeinsam erlernen! \n\n\n\n\n\n\n\nDie Teilnahme ist kostenlos\, nur eine Anmeldung per Nachricht oder Telefon an 0157 51 064 564 ist wichtig. \n\n\n\n\n\n\n\nOrganisiert wird der Kurs von der Frauen*gruppe in Kooperation mit dem Altaan Kultuverein.
URL:https://bueze.de/event/salam-dance-workshop/
ATTACH;FMTTYPE=image/jpeg:https://bueze.de/wp-content/uploads/2024/07/47.jpg
END:VEVENT
BEGIN:VEVENT
DTSTART;TZID=Europe/Berlin:20240804T100000
DTEND;TZID=Europe/Berlin:20240804T160000
DTSTAMP:20260425T124003
CREATED:20240719T123750Z
LAST-MODIFIED:20240719T123750Z
UID:1655-1722765600-1722787200@bueze.de
SUMMARY: Handwerks- & Flohmarkt
DESCRIPTION: Unser Handwerksmarkt und Flohmarkt wartet auf Euch: Am Sonntag könnt ihr wieder in entspannter Atmosphäre über den Markt im BüzE schlendern. Wir freuen uns schon auf einen schönen Tag mit Euch. \n\n\n\n\n\n\n\nAnmeldungen zum Verkauf: https://bueze.de/kontaktformular-flohmarkt/. \n\n\n\n\n\n\n\n12€ pro Tisch\, Kleine Kleiderständer 2\,- €\, große Kleiderständer 5\,- €.
URL:https://bueze.de/event/handwerks-flohmarkt-2/
ATTACH;FMTTYPE=image/jpeg:https://bueze.de/wp-content/uploads/2024/01/flohmarkt-scaled.jpg
END:VEVENT
BEGIN:VEVENT
DTSTART;TZID=Europe/Berlin:20240804T190000
DTEND;TZID=Europe/Berlin:20240804T230000
DTSTAMP:20260425T124003
CREATED:20240719T123928Z
LAST-MODIFIED:20240719T123928Z
UID:1657-1722798000-1722812400@bueze.de
SUMMARY: Ecstatic Dance
DESCRIPTION: Ecstatic Dance ist eine so tolle Kombination aus Bewegung\, Spaß Meditation\, Tiefgang und Horizonterweiterung. Ein richtig gutes Tool um sich mit Freude im Herzen in neue Dimensionen hinein weiterzuentwickeln. Endlich mal ein Raum\, in der keine Bewegung zu verrückt ist. Dem Körper die Kontrolle zu übergeben ist eine Form der Reinigung. \n\n\n\n\n\n\n\nEinlass 19:00 Uhr\, Beginn 19:30 Uhr\, Ende 23 Uhr  \n\n\n\n\n\n\n\n@ecstaticdancekoeln \n\n\n\n\n\n\n\n15€ ermäßigt\, 20€ Regulär\, 25€ Supporter
URL:https://bueze.de/event/ecstatic-dance-5/
ATTACH;FMTTYPE=image/png:https://bueze.de/wp-content/uploads/2024/06/Bildschirmfoto-2024-06-18-um-16.21.06.png
END:VEVENT
BEGIN:VEVENT
DTSTART;TZID=Europe/Berlin:20240810T193000
DTEND;TZID=Europe/Berlin:20240810T233000
DTSTAMP:20260425T124003
CREATED:20240719T124201Z
LAST-MODIFIED:20240719T124202Z
UID:1659-1723318200-1723332600@bueze.de
SUMMARY:LesBüz-Party in der BüzE
DESCRIPTION:Lesben-Party im Bürgerzentrum Ehrenfeld: Veranstalterin ist LesBüz\, der Lesben-Stammtisch Ehrenfeld\, in Kooperation mit den lesbischen ALTERnativen.  \n\n\n\n\n\n\n\nAn den Turntables wie gewohnt: DJ Walumm. Eintritt 10 €\, eine Ermäßigung ist möglich.
URL:https://bueze.de/event/lesbuez-party-in-der-bueze/
ATTACH;FMTTYPE=image/jpeg:https://bueze.de/wp-content/uploads/2024/07/lag_party-ehrenfeld-date.jpg
END:VEVENT
BEGIN:VEVENT
DTSTART;TZID=Europe/Berlin:20240823T190000
DTEND;TZID=Europe/Berlin:20240823T233000
DTSTAMP:20260425T124003
CREATED:20240719T124400Z
LAST-MODIFIED:20240814T133700Z
UID:1662-1724439600-1724455800@bueze.de
SUMMARY:Demo & Sommerfest
DESCRIPTION:WIR WOLLEN GEMEINSAM LAUT WERDEN & das gleich mit euch im Leo-Amann-Park. \n\n\n\n\n\n\n\nAb 19.00 Uhr werden wir dort für den Erhalt des BüzE im Rahmen einer zweiten Kundgebung mit euch demonstrieren. Direkt im Anschluss werden wir die offene Bühne im Leo-Amann-Park veranstalten und anschließend im großen Saal ab 22 Uhr feiern!Dafür sind wir auf jede*n Einzelne*n von euch angewiesen. Egal ob ihr Ideen habt\, wie wir noch lauter werden können\, Vorstellungen\, wie das BüzE in Zukunft aussehen kann oder Lust habt\, den Tag in einer kreativen Art mitzugestalten – kommt vorbei oder sprecht uns schon vorab an! \n\n\n\n\n\n\n\nAlles weitere bald hier oder unserem Instagram-Account.
URL:https://bueze.de/event/demo-sommerfest/
ATTACH;FMTTYPE=image/jpeg:https://bueze.de/wp-content/uploads/2024/07/POST_1_VERGROessERT-1.jpg
END:VEVENT
BEGIN:VEVENT
DTSTART;TZID=Europe/Berlin:20240824T180000
DTEND;TZID=Europe/Berlin:20240824T220000
DTSTAMP:20260425T124003
CREATED:20240719T124600Z
LAST-MODIFIED:20240719T124601Z
UID:1664-1724522400-1724536800@bueze.de
SUMMARY:Verliebt in Köln
DESCRIPTION:32. KoKoBe Kennenlernparty \n\n\n\n\n\n\n\n… und wir feiern 20 Jahre KoKoBe \n\n\n\n\n\n\n\nFür Menschen mit & ohne Behinderung \n\n\n\n\n\n\n\nInfos: \n\n\n\nTel. 126 18 26 \n\n\n\nwww.kokobe-koeln.de \n\n\n\n\n\n\n\nWenn Sie Unterstützung benötigen\, bringen Sie bitte Ihre persönliche Assistenz oder Begleitung mit \n\n\n\n\n\n\n\nVeranstalter: \n\n\n\nKoKoBe Köln und BüzE e.V.\, gefördert von der Stadt Köln
URL:https://bueze.de/event/verliebt-in-koeln/
ATTACH;FMTTYPE=image/jpeg:https://bueze.de/wp-content/uploads/2024/07/Kennenlernparty-klein.jpg
END:VEVENT
END:VCALENDAR