BEGIN:VCALENDAR
VERSION:2.0
PRODID:-//BüzE - Bürgerzentrum Ehrenfeld e.V. - ECPv6.15.20//NONSGML v1.0//EN
CALSCALE:GREGORIAN
METHOD:PUBLISH
X-WR-CALNAME:BüzE - Bürgerzentrum Ehrenfeld e.V.
X-ORIGINAL-URL:https://bueze.de
X-WR-CALDESC:Veranstaltungen für BüzE - Bürgerzentrum Ehrenfeld e.V.
REFRESH-INTERVAL;VALUE=DURATION:PT1H
X-Robots-Tag:noindex
X-PUBLISHED-TTL:PT1H
BEGIN:VTIMEZONE
TZID:Europe/Berlin
BEGIN:DAYLIGHT
TZOFFSETFROM:+0100
TZOFFSETTO:+0200
TZNAME:CEST
DTSTART:20230326T010000
END:DAYLIGHT
BEGIN:STANDARD
TZOFFSETFROM:+0200
TZOFFSETTO:+0100
TZNAME:CET
DTSTART:20231029T010000
END:STANDARD
BEGIN:DAYLIGHT
TZOFFSETFROM:+0100
TZOFFSETTO:+0200
TZNAME:CEST
DTSTART:20240331T010000
END:DAYLIGHT
BEGIN:STANDARD
TZOFFSETFROM:+0200
TZOFFSETTO:+0100
TZNAME:CET
DTSTART:20241027T010000
END:STANDARD
BEGIN:DAYLIGHT
TZOFFSETFROM:+0100
TZOFFSETTO:+0200
TZNAME:CEST
DTSTART:20250330T010000
END:DAYLIGHT
BEGIN:STANDARD
TZOFFSETFROM:+0200
TZOFFSETTO:+0100
TZNAME:CET
DTSTART:20251026T010000
END:STANDARD
END:VTIMEZONE
BEGIN:VEVENT
DTSTART;TZID=Europe/Berlin:20241003T200000
DTEND;TZID=Europe/Berlin:20241003T220000
DTSTAMP:20260425T124301
CREATED:20240906T094213Z
LAST-MODIFIED:20240906T094214Z
UID:1766-1727985600-1727992800@bueze.de
SUMMARY:THE RAMONAS
DESCRIPTION:The Ramonas sind Englands einzig wahre All Girl Ramones Tribute Band. Sie gründeten sich 2004\, natürlich zu Ehren der Ramones. The Ramonas fangen den Zauber der frühen Ramones mit einer Intensität ein\, die euch eine wohlige Gänsehaut beschweren wird\, und obendrein sehen die Mädels auch noch viel besser aus als die Originale Joey\, Johnny\, Dee Dee und Tommy! \n\n\n\n\n\n\n\n“Touring\, Touring is never boring” und diese Girls sind der Garant für eine einstündige high energy Live Show unter Vollgas. \n\n\n\nThe Ramonas mischen neben Ramones Songs auch ihre eigenen Songs ins Programm. Nicht nur für Ramones Fans!!
URL:https://bueze.de/event/the-ramonas/
ATTACH;FMTTYPE=image/png:https://bueze.de/wp-content/uploads/2024/09/Bildschirmfoto-2024-09-06-um-10.43.47.png
END:VEVENT
BEGIN:VEVENT
DTSTART;TZID=Europe/Berlin:20241005T160000
DTEND;TZID=Europe/Berlin:20241005T233000
DTSTAMP:20260425T124301
CREATED:20240906T094529Z
LAST-MODIFIED:20240906T094529Z
UID:1771-1728144000-1728171000@bueze.de
SUMMARY:Tanzfragmente -Kulturabend im BüzE
DESCRIPTION:Am 5.10. helfen Künstler*innen und Besucher*innen den Soli-Abend für das BüzE kreativ zu gestalten: Mit Tanz\, Theater\, Ausstellung\, Offener Bühne und Musik können alle kostenlos an Kultur für Alle teilnehmen. Mit einem bunten Program für jung und Alt von 16 Uhr- Open End zeigen wir der Welt wie wichtig das BüzE für soziale und kulturelle Teilhabe ist. \n\n\n\nEintritt frei!
URL:https://bueze.de/event/tanzfragmente-kulturabend-im-bueze/
ATTACH;FMTTYPE=image/jpeg:https://bueze.de/wp-content/uploads/2024/09/tanzfragmente_post_kulturabend-scaled.jpg
END:VEVENT
BEGIN:VEVENT
DTSTART;TZID=Europe/Berlin:20241006T100000
DTEND;TZID=Europe/Berlin:20241006T160000
DTSTAMP:20260425T124301
CREATED:20240906T094700Z
LAST-MODIFIED:20240906T094701Z
UID:1774-1728208800-1728230400@bueze.de
SUMMARY:Handwerks- und Flohmarkt
DESCRIPTION:Unser Handwerksmarkt und Flohmarkt wartet auf Euch: Am Sonntag könnt ihr wieder in entspannter Atmosphäre über den Markt im BüzE schlendern. Wir freuen uns schon auf einen schönen Tag mit Euch.
URL:https://bueze.de/event/handwerks-und-flohmarkt-6/
ATTACH;FMTTYPE=image/jpeg:https://bueze.de/wp-content/uploads/2024/01/flohmarkt-scaled.jpg
END:VEVENT
BEGIN:VEVENT
DTSTART;TZID=Europe/Berlin:20241010T103000
DTEND;TZID=Europe/Berlin:20241010T113000
DTSTAMP:20260425T124301
CREATED:20240906T094829Z
LAST-MODIFIED:20240906T094849Z
UID:1776-1728556200-1728559800@bueze.de
SUMMARY:PARTI! BEI EULE UND WASCHBÄR
DESCRIPTION:Theater mit Musik – für Kinder ab 4 \n\n\n\n\n\n\n\nEule Laila und Willi Waschbär sind gute Freunde und haben es gemütlich in ihrer Waldwohnung. \n\n\n\nDen ganzen Tag hindurch sind sie ein fröhlich-eingespieltes Team: beim Zähneputzen singen sie beide\, Laila mag die gelben Gummistiefel\, Willi trommelt gerne und um 12 Uhr gibt’s Mittagessen. Die gute Stimmung kippt\, als Willi unerwartet ihre gemeinsamen Regeln in Frage stellt und die Beiden nun doch mal unterschiedlicher Meinung sind. \n\n\n\n\n\n\n\nWie können sie sich neu abstimmen? Ist eine Stimme wichtiger als die andere? Wer darf bestimmen? \n\n\n\nNoch ein langer Weg bis zur Party am Abend\, den Eule und Waschbär mit Witz und Musik meistern… \n\n\n\n\n\n\n\nvon und mit: Andrea Lucas und Thomas Marey \n\n\n\nDramaturgie: Theresa Hupp
URL:https://bueze.de/event/parti-bei-eule-und-waschbaer/
ATTACH;FMTTYPE=image/png:https://bueze.de/wp-content/uploads/2024/09/Bildschirmfoto-2024-09-06-um-11.05.21.png
END:VEVENT
BEGIN:VEVENT
DTSTART;TZID=Europe/Berlin:20241010T190000
DTEND;TZID=Europe/Berlin:20241010T223000
DTSTAMP:20260425T124301
CREATED:20240906T095021Z
LAST-MODIFIED:20240906T095021Z
UID:1780-1728586800-1728599400@bueze.de
SUMMARY:KNARF RELLÖM ARKESTRA & BERNADETTE LA HENGST
DESCRIPTION:KNARF RELLÖM ARKESTRA …fachgerecht beschreiben?  \n\n\n\n\n\n\n\nVermutlich so: Tanzbar\, politisch\, Funk\, House\, Dub\, Kraut-Rock. Knarf Rellöm haut sein Zeug raus\, und das sehr mitreissend. \n\n\n\nOriginelles Alroundgenie\, Spinner\, Parolen-auf-dem-Punkt-Bringer mit furioser Superpower. Aktuell zu dritt auf der Bühne. Fazit: Genug Gründe sich das KNARF RELLÖM ARKESTRA sofort live mit zu erleben und danach zu Hause mehrfach die Platten nachzuhören. \n\n\n\n\n\n\n\nBei ihren Konzerten versteht es Bernadette La Hengst\, ihr Publikum mit Electro-Dance-Ohrwürmern\, Krautbeat und swingendem Loverssoul mitzureißen. Die Beats sind fett\, der Charme entwaffnend. Politisch\, feministisch – Bernadette vereint Standpunkt und Revolte magisch groovend. \n\n\n\nDie Energie ihrer ehemaligen Band „Die Braut haut ins Auge“ sprüht immer noch Funken\, die aktuell von ihrer wechselnden Begleitband\, den Ladettes\, weitergetragen werden. \n\n\n\n\n\n\n\nDo. 10.10.24 | Einlass 19 h | Beginn 20 h
URL:https://bueze.de/event/knarf-relloem-arkestra-bernadette-la-hengst/
ATTACH;FMTTYPE=image/png:https://bueze.de/wp-content/uploads/2024/09/Bildschirmfoto-2024-09-06-um-10.47.17.png
END:VEVENT
BEGIN:VEVENT
DTSTART;TZID=Europe/Berlin:20241013T150000
DTEND;TZID=Europe/Berlin:20241013T160000
DTSTAMP:20260425T124301
CREATED:20240906T095140Z
LAST-MODIFIED:20240906T095140Z
UID:1783-1728831600-1728835200@bueze.de
SUMMARY:PARTI! BEI EULE UND WASCHBÄR
DESCRIPTION:Theater mit Musik – für Kinder ab 4 \n\n\n\n\n\n\n\nEule Laila und Willi Waschbär sind gute Freunde und haben es gemütlich in ihrer Waldwohnung. \n\n\n\nDen ganzen Tag hindurch sind sie ein fröhlich-eingespieltes Team: beim Zähneputzen singen sie beide\, Laila mag die gelben Gummistiefel\, Willi trommelt gerne und um 12 Uhr gibt’s Mittagessen. Die gute Stimmung kippt\, als Willi unerwartet ihre gemeinsamen Regeln in Frage stellt und die Beiden nun doch mal unterschiedlicher Meinung sind. \n\n\n\n\n\n\n\nWie können sie sich neu abstimmen? Ist eine Stimme wichtiger als die andere? Wer darf bestimmen? \n\n\n\nNoch ein langer Weg bis zur Party am Abend\, den Eule und Waschbär mit Witz und Musik meistern… \n\n\n\n\n\n\n\nvon und mit: Andrea Lucas und Thomas Marey \n\n\n\nDramaturgie: Theresa Hupp
URL:https://bueze.de/event/parti-bei-eule-und-waschbaer-2/
ATTACH;FMTTYPE=image/png:https://bueze.de/wp-content/uploads/2024/09/Bildschirmfoto-2024-09-06-um-11.05.21-1.png
END:VEVENT
BEGIN:VEVENT
DTSTART;TZID=Europe/Berlin:20241013T190000
DTEND;TZID=Europe/Berlin:20241013T223000
DTSTAMP:20260425T124301
CREATED:20240906T095305Z
LAST-MODIFIED:20240906T095306Z
UID:1786-1728846000-1728858600@bueze.de
SUMMARY:Ecstatic Dance
DESCRIPTION:Ecstatic Dance ist eine so tolle Kombination aus Bewegung\, Spaß Meditation\, Tiefgang und Horizonterweiterung. Ein richtig gutes Tool um sich mit Freude im Herzen in neue Dimensionen hinein weiterzuentwickeln. Endlich mal ein Raum\, in der keine Bewegung zu verrückt ist. Dem Körper die Kontrolle zu übergeben ist eine Form der Reinigung. \n\n\n\n\n\n\n\nEinlass 19:00 Uhr\, Beginn 19:30 Uhr\, Ende 23 Uhr  \n\n\n\n\n\n\n\n@ecstaticdancekoeln \n\n\n\n\n\n\n\n15€ ermäßigt\, 20€ Regulär\, 25€ Supporter 
URL:https://bueze.de/event/ecstatic-dance-7/
ATTACH;FMTTYPE=image/png:https://bueze.de/wp-content/uploads/2024/06/Bildschirmfoto-2024-06-18-um-16.21.06.png
END:VEVENT
BEGIN:VEVENT
DTSTART;TZID=Europe/Berlin:20241018T200000
DTEND;TZID=Europe/Berlin:20241018T230000
DTSTAMP:20260425T124301
CREATED:20240906T095438Z
LAST-MODIFIED:20240906T095439Z
UID:1788-1729281600-1729292400@bueze.de
SUMMARY:Escht Kabarett
DESCRIPTION:Verschiedene Künstlerinnen und Künstler trotzen der Welt \, mit vielen Überraschungen. \n\n\n\nDurch das Programm führt der Bühnenköbes \n\n\n\n\n\n\n\nMit Grill-Spass & Gesöff. \n\n\n\nEinlass 19 Uhr (Grill-Eröffnung) \n\n\n\nBeginn 20 Uhr \n\n\n\nEintritt 10 Euro \n\n\n\n\n\n\n\nReservierung über termine@eschtkabarett.de
URL:https://bueze.de/event/escht-kabarett-5/
END:VEVENT
BEGIN:VEVENT
DTSTART;TZID=Europe/Berlin:20241027T150000
DTEND;TZID=Europe/Berlin:20241027T163000
DTSTAMP:20260425T124301
CREATED:20240906T095845Z
LAST-MODIFIED:20240906T095845Z
UID:1792-1730041200-1730046600@bueze.de
SUMMARY:Nein-Horn Lesung
DESCRIPTION:Ein süßes kuscheliges Einhorn kommt auf die Welt. Und stänkert nur rum. Es will dies nicht\, es will das nicht. Nein. Nein. Nein.So haben sich seine Eltern das nicht vorgestellt. Ab sofort wird es das NEINHORN genannt. Und das Neinhorn will endlich seine Ruhe. Es macht sich auf den Weg nach nirgends. Dort lernt es neue Freunde kennen\, den Wasbären\, den Nahund und die Königstochter.  \n\n\n\n\n\n\n\nEine heitere Action-Lesung für die ganze Familie zum Mitmachen und Mitlachen. \n\n\n\n\n\n\n\nDauer ca. 45 Minuten. Gelesen von den Schauspielern Eva Marianne Kraiss und Sebastian Menges
URL:https://bueze.de/event/nein-horn-lesung/
ATTACH;FMTTYPE=image/jpeg:https://bueze.de/wp-content/uploads/2024/09/VyHJbcoDSxmkOwclTmTG_banner-neinhornjpg.jpeg
END:VEVENT
BEGIN:VEVENT
DTSTART;TZID=Europe/Berlin:20241028T103000
DTEND;TZID=Europe/Berlin:20241028T120000
DTSTAMP:20260425T124301
CREATED:20240906T103817Z
LAST-MODIFIED:20240906T103818Z
UID:1795-1730111400-1730116800@bueze.de
SUMMARY:Philharmie Veedel Pänz
DESCRIPTION:»Die Musikerfinderei« \n\n\n\nGeysir Quartett \n\n\n\n\n\n\n\nDas Geysir Quartett kommt ins Veedel und bringt seine eigene Musik mit. Die vier Musiker:innen komponieren ihre Stücke selbst\, was in dieser spannenden Besetzung besonders viel Spaß macht. Doch was heißt das überhaupt\, komponieren? Wie entsteht der Rhythmus\, woher kommt die Idee für eine Melodie? Kann man das lernen? Jawohl! Die Welt um uns herum ist voll von Musik\, wir brauchen nur hinzuhören. Wie klingt die U-Bahn? Wie singt der Vogel auf dem Balkon? Wie klingt das Lachen des besten Freundes\, der besten Freundin\, wenn man sie wild durchkitzelt? Gemeinsam mit dem Publikum sammelt das Quartett Ideen und wer weiß\, vielleicht formt sich daraus ein eigenes Stück?
URL:https://bueze.de/event/philharmie-veedel-paenz/
ATTACH;FMTTYPE=image/jpeg:https://bueze.de/wp-content/uploads/2024/09/1b-elefantmarimbaphon_1.jpg__860x540_q85_crop_subject_location-12722C848_subsampling-2_upscale.jpg
END:VEVENT
BEGIN:VEVENT
DTSTART;TZID=Europe/Berlin:20241031T210000
DTEND;TZID=Europe/Berlin:20241101T040000
DTSTAMP:20260425T124301
CREATED:20240906T104123Z
LAST-MODIFIED:20241010T083354Z
UID:1798-1730408400-1730433600@bueze.de
SUMMARY:Happy Halloween! This is Gay Christmas.
DESCRIPTION:Halloween ist eine Nacht\, in der wir unsere inneren Kreaturen umarmen\, Identitäten anprobieren können\, die uns den Rest des Jahres verboten erscheinen\, und als was auch immer wir sein wollen\, auf die Straße gehen können.  \n\n\n\n\n\n\n\nDiese Freiheit ist seit langem verlockend für LGBTQ+-Personen aller Altersgruppen\, die Halloween als Raum nutzen\, um das Chaos der Identität zu erforschen und damit zu spielen – kein Wunder also\, dass es den Ruf eines Feiertags für die queere Community erlangt hat. \n\n\n\n\n\n\n\nKommt vorbei und habt die Nacht eures Lebens denn um die Party richtig einzuheißen machen Alice King\, Roxy Rex\, Spazedude und Syreen Mars gemeinsam mit dem Host des Abend\, Loona Tension\, eine schaurige\, sexy und vor allem queere Show für euch. Danach legt dann Chany Dakota für euch die ganze Nacht die besten queeren Hits auf.  \n\n\n\n\n\n\n\nAber das ist noch nicht Alles. Während der Party gibt es noch weitere Tanzperformances\, Poledance\, Feuershow \, Lightshow und eine Burlesqueshow. ​​​​​​Ich sagte doch diese Nacht wird Legendär.  \n\n\n\n\n\n\n\nSichert euch jetzt eurer Ticket. \n\n\n\nWir freuen uns auf euch und eure Kostüme!
URL:https://bueze.de/event/happy-halloween-this-is-gay-christmas/
ATTACH;FMTTYPE=image/png:https://bueze.de/wp-content/uploads/2024/09/Bildschirmfoto-2024-09-06-um-12.41.01.png
END:VEVENT
END:VCALENDAR