BEGIN:VCALENDAR
VERSION:2.0
PRODID:-//BüzE - Bürgerzentrum Ehrenfeld e.V. - ECPv6.15.20//NONSGML v1.0//EN
CALSCALE:GREGORIAN
METHOD:PUBLISH
X-WR-CALNAME:BüzE - Bürgerzentrum Ehrenfeld e.V.
X-ORIGINAL-URL:https://bueze.de
X-WR-CALDESC:Veranstaltungen für BüzE - Bürgerzentrum Ehrenfeld e.V.
REFRESH-INTERVAL;VALUE=DURATION:PT1H
X-Robots-Tag:noindex
X-PUBLISHED-TTL:PT1H
BEGIN:VTIMEZONE
TZID:Europe/Berlin
BEGIN:DAYLIGHT
TZOFFSETFROM:+0100
TZOFFSETTO:+0200
TZNAME:CEST
DTSTART:20240331T010000
END:DAYLIGHT
BEGIN:STANDARD
TZOFFSETFROM:+0200
TZOFFSETTO:+0100
TZNAME:CET
DTSTART:20241027T010000
END:STANDARD
BEGIN:DAYLIGHT
TZOFFSETFROM:+0100
TZOFFSETTO:+0200
TZNAME:CEST
DTSTART:20250330T010000
END:DAYLIGHT
BEGIN:STANDARD
TZOFFSETFROM:+0200
TZOFFSETTO:+0100
TZNAME:CET
DTSTART:20251026T010000
END:STANDARD
BEGIN:DAYLIGHT
TZOFFSETFROM:+0100
TZOFFSETTO:+0200
TZNAME:CEST
DTSTART:20260329T010000
END:DAYLIGHT
BEGIN:STANDARD
TZOFFSETFROM:+0200
TZOFFSETTO:+0100
TZNAME:CET
DTSTART:20261025T010000
END:STANDARD
END:VTIMEZONE
BEGIN:VEVENT
DTSTART;TZID=Europe/Berlin:20250706T100000
DTEND;TZID=Europe/Berlin:20250706T160000
DTSTAMP:20260426T030357
CREATED:20250609T114915Z
LAST-MODIFIED:20250704T111429Z
UID:2444-1751796000-1751817600@bueze.de
SUMMARY:Flohmarkt und Handwerksmarkt
DESCRIPTION:Jeden ersten Sonntag im Monat ist es soweit und ihr könnt in entspannter Atmosphäre über den Handwerks- und Flohmarkt im BüzE schlendern🎉  Wir freuen uns schon auf einen schönen Tag mit euch💫Es sind dieses Mal sogar noch ein paar Stände frei🌞 12€/Meter & 5€/Kleiderstange  \n\n\n\nWer also einen Stand haben möchte\, meldet sich schnell per Mail an flohmarkt@bueze.de✉️
URL:https://bueze.de/event/flohmarkt-und-handwerksmarkt/
ATTACH;FMTTYPE=image/jpeg:https://bueze.de/wp-content/uploads/2024/01/flohmarkt-scaled.jpg
END:VEVENT
BEGIN:VEVENT
DTSTART;TZID=Europe/Berlin:20250711T200000
DTEND;TZID=Europe/Berlin:20250711T230000
DTSTAMP:20260426T030357
CREATED:20250612T082323Z
LAST-MODIFIED:20250612T082324Z
UID:2453-1752264000-1752274800@bueze.de
SUMMARY:Carlton Livingston
DESCRIPTION:Carlton Livingston \, the soulful voice\, embarks on a unique journey with Across Nations.  \n\n\n\n\n\n\n\nBacked by The Empiricals full orchestra\, he brings his timeless style into new heights\, blending deep roots with a fresh\, powerful energy. A rare opportunity to experience this iconic voice in a style. \n\n\n\n\n\n\n\nReimagining classics and delivering fresh rhythms\, a straight fire celebration of roots & culture music.  \n\n\n\n\n\n\n\n– July 11th 2025 | 8pm-11pm:  \n\n\n\n@buergerzentrumehrenfeld Cologne. \n\n\n\n• Contribution: \n\n\n\n– Cologne: 18€ presale – 22€ at the door \n\n\n\n||| Presale tickets online\, links in ||| \n\n\n\n\nhttps://t.rausgegangen.de/tickets/carlton-livingston-across-nations
URL:https://bueze.de/event/carlton-livingston/
ATTACH;FMTTYPE=image/png:https://bueze.de/wp-content/uploads/2025/06/DMK_Carlton-Livingston_lgsd_The-Empiricals_Banner-1920x1080_Koeln.png
END:VEVENT
BEGIN:VEVENT
DTSTART;TZID=Europe/Berlin:20250713T153000
DTEND;TZID=Europe/Berlin:20250713T163000
DTSTAMP:20260426T030357
CREATED:20250612T082806Z
LAST-MODIFIED:20250612T082806Z
UID:2456-1752420600-1752424200@bueze.de
SUMMARY:ARME SOCKE\, DICKE DECKE
DESCRIPTION:Tanztheaterfür Kinder ab 4 \n\n\n\n\n\n\n\nIn der UN-Kinderrechtekonvention garantiert der § 27 jedem Kind das Recht auf soziale Sicherheit und auf altersangemessene Ausstattung mit allem\, was ein förderliches und gebildetes Aufwachsen braucht.  \n\n\n\n\n\n\n\nMit anderen Worten: dieser Paragraph stemmt sich gegen die Kinderarmut – von der auch in Deutschland jedes fünfte Kind betroffen ist. Jedes! fünfte! Kind! \n\n\n\n\n\n\n\n„Arme Socke\, dicke Decke“ entwickeln wir aktuell für Kinder ab 4 Jahren und werden Anfang Juli Premiere im Kölner Kunstzentrum Wachsfabrik / Barnes Crossing feiern. \n\n\n\n\n\n\n\nIn unserem Stück geht es natürlich nicht um gesellschaftliche und kapitalismuskristische Analysen oder um die Frage\, warum in einem der reichsten Länder der Welt jede fünfte Familie von Armut betroffen ist. Auch wenn dies für uns wichtige Aspekte der erwachsenen Auseinandersetzungen sind.  \n\n\n\n\n\n\n\nAber im Stück\, auf der darstellenden Ebene geht es um Gefühle und Bedürfnisse: wenn du nicht genug hast\, wenn du etwas brauchst\, wenn du nicht verstehst\, warum andere soviel mehr haben. Aber es geht auch um Großzügigkeit\, ums Teilen und ums solidarisch-sein. Und um Entdeckungen\, was freundlich und fair ist. Und was man alles teilen kann und danach sogar noch mehr hat. \n\n\n\nDie beiden Performerinnen Theresa Hupp und Andrea Lucas nutzen für dieses Stück spielerische Alltagssituationen und ihr reiches tänzerisches und körpersprachliches Ausdrucksvokabular\, um auch jenseits der Worte den jungen Kindern einen geschützten sinnlichen und auch humorvollen Raum zu öffnen\, in dem sie sich mit all ihren Gefühlen wiederfinden können. \n\n\n\n\n\n\n\nPerformerinnen: Theresa Hupp und Andrea LucasMalerei: Sabine RixenDramaturgie: Judith Nüßler-HuhnKomposition: Thomas Marey \n\n\n\n\n\n\n\nTickets unter: 0163 – 9719837 oder über unser Kontaktformular
URL:https://bueze.de/event/arme-socke-dicke-decke/
ATTACH;FMTTYPE=image/png:https://bueze.de/wp-content/uploads/2025/06/Bildschirmfoto-2025-06-12-um-10.25.51.png
END:VEVENT
BEGIN:VEVENT
DTSTART;TZID=Europe/Berlin:20250725T193000
DTEND;TZID=Europe/Berlin:20250725T230000
DTSTAMP:20260426T030357
CREATED:20250612T083209Z
LAST-MODIFIED:20250717T091603Z
UID:2462-1753471800-1753484400@bueze.de
SUMMARY:Ecstatic Dance
DESCRIPTION:Ecstatic Dance ist eine so tolle Kombination aus Bewegung\, Spaß Meditation\, Tiefgang und Horizonterweiterung.  \n\n\n\n\n\n\n\nEin richtig gutes Tool um sich mit Freude im Herzen in neue Dimensionen hinein weiterzuentwickeln. Endlich mal ein Raum\, in der keine Bewegung zu verrückt ist. Dem Körper die Kontrolle zu übergeben ist eine Form der Reinigung. \n\n\n\n\n\n\n\nEinlass 19:00 Uhr\, Beginn 19:30 Uhr\, Ende 23 Uhr \n\n\n\n\n\n\n\n@ecstaticdancekoeln \n\n\n\n15€ ermäßigt\, 20€ Regulär\, 25€ Supporter 
URL:https://bueze.de/event/ecstatic-dance-12/
ATTACH;FMTTYPE=image/png:https://bueze.de/wp-content/uploads/2024/06/Bildschirmfoto-2024-06-18-um-16.21.06.png
END:VEVENT
BEGIN:VEVENT
DTSTART;TZID=Europe/Berlin:20250726T190000
DTEND;TZID=Europe/Berlin:20250726T233000
DTSTAMP:20260426T030357
CREATED:20250612T083437Z
LAST-MODIFIED:20250704T112012Z
UID:2464-1753556400-1753572600@bueze.de
SUMMARY:Escht Kabarett - Auf dem Grill
DESCRIPTION:Verschiedene Künstlerinnen und Künstler trotzen der Welt \, mit vielen Überraschungen. \n\n\n\n\n\n\n\nMit \n\n\n\nHenning Schmidtke \n\n\n\nThomas Lienenlücke \n\n\n\nTorsten Schlosser\, \n\n\n\nund andere… \n\n\n\n\n\n\n\nDurch das Programm führt der Bühnenköbes \n\n\n\n\n\n\n\nMit Grill-Spass & Gesöff. \n\n\n\nEinlass 19 Uhr (Grill-Eröffnung) \n\n\n\nBeginn 20 Uhr \n\n\n\nEintritt 10 Euro
URL:https://bueze.de/event/escht-kabarett-auf-dem-grill-2/
ATTACH;FMTTYPE=image/jpeg:https://bueze.de/wp-content/uploads/2024/01/ESCHT-Katze-HP.jpg
END:VEVENT
END:VCALENDAR