BEGIN:VCALENDAR
VERSION:2.0
PRODID:-//BüzE - Bürgerzentrum Ehrenfeld e.V. - ECPv6.15.20//NONSGML v1.0//EN
CALSCALE:GREGORIAN
METHOD:PUBLISH
X-WR-CALNAME:BüzE - Bürgerzentrum Ehrenfeld e.V.
X-ORIGINAL-URL:https://bueze.de
X-WR-CALDESC:Veranstaltungen für BüzE - Bürgerzentrum Ehrenfeld e.V.
REFRESH-INTERVAL;VALUE=DURATION:PT1H
X-Robots-Tag:noindex
X-PUBLISHED-TTL:PT1H
BEGIN:VTIMEZONE
TZID:Europe/Berlin
BEGIN:DAYLIGHT
TZOFFSETFROM:+0100
TZOFFSETTO:+0200
TZNAME:CEST
DTSTART:20240331T010000
END:DAYLIGHT
BEGIN:STANDARD
TZOFFSETFROM:+0200
TZOFFSETTO:+0100
TZNAME:CET
DTSTART:20241027T010000
END:STANDARD
BEGIN:DAYLIGHT
TZOFFSETFROM:+0100
TZOFFSETTO:+0200
TZNAME:CEST
DTSTART:20250330T010000
END:DAYLIGHT
BEGIN:STANDARD
TZOFFSETFROM:+0200
TZOFFSETTO:+0100
TZNAME:CET
DTSTART:20251026T010000
END:STANDARD
BEGIN:DAYLIGHT
TZOFFSETFROM:+0100
TZOFFSETTO:+0200
TZNAME:CEST
DTSTART:20260329T010000
END:DAYLIGHT
BEGIN:STANDARD
TZOFFSETFROM:+0200
TZOFFSETTO:+0100
TZNAME:CET
DTSTART:20261025T010000
END:STANDARD
END:VTIMEZONE
BEGIN:VEVENT
DTSTART;TZID=Europe/Berlin:20250903T190000
DTEND;TZID=Europe/Berlin:20250903T213000
DTSTAMP:20260425T234242
CREATED:20250812T140339Z
LAST-MODIFIED:20250812T140340Z
UID:2572-1756926000-1756935000@bueze.de
SUMMARY:Lesen in Ehren*feld – queerfeministische-Lesereihe in Köln*
DESCRIPTION:Lesen in Ehren*feld – queerfeministische-Lesereihe in Köln* \n\n\n\n\n\n\n\nDer Literaturbetrieb hat ein Repräsentationsproblem. FLINTA*-Autor*innen und queerfeministische Themen werden ignoriert\, in stereotype Rollen gedrängt und finden kaum Sichtbarkeit auf großen Bühnen. Wir haben keine Lust mehr auf Beifahrersitze. Wir nehmen uns den Raum im Feld. Mit Geschichten\, die nicht angepasst\, entschärft oder erklärt werden müssen. \n\n\n\n\n\n\n\nLesen in Ehren*feld ist eine neue Lesereihe in Köln Ehrenfeld\, die FLINTA*-Perspektiven sichtbar macht – ungefiltert\, ungeordnet\, unverschämt wichtig. \n\n\n\n\n\n\n\nZur ersten Ausgabe lesen wir aus „Oh Sunny“ von Ta-Som Helena Yun – ein kraftvoller Roman über Zugehörigkeit\, Trauma und Heilung. \n\n\n\n\n\n\n\n📅 Wann: 03.09.2025\, 19:00 Uhr📍 Wo: Bürgerzentrum Ehrenfeld🎤 Moderation: Samson Grzybek (Queermed Gründer*in\, Autor*in\, Podcasthost)📚 Büchertisch: @litty.buchhandlung \n\n\n\nKommt vorbei\, hört zu\, bringt Fragen mit – oder einfach euch selbst. \n\n\n\nFür alle\, die FLINTA-Stimmen lesen\, hören und feiern wollen. \n\n\n\nZu den Tickets: Das BüzE versucht ein barriererarmer Raum zu sein und wir wissen\, dass Ticketpreise eine Barriere darstellen können. Daher meldet Euch gerne unter info@bueze.de\, wenn Ihr reduzierte oder kostenlose Tickets benötigt. \n\n\n\nCredits: Jana Rodenbusch (Samson) und Stephanie Wacker (Ta-Som) \n\n\n\n\n\n\n\n#LesenInEhrenfeld #KölnLiest #FLINTA #KölnEhrenfeld  #BüzE-Ehrenfeld #Leykam
URL:https://bueze.de/event/lesen-in-ehrenfeld-queerfeministische-lesereihe-in-koeln/
ATTACH;FMTTYPE=image/jpeg:https://bueze.de/wp-content/uploads/2025/08/oQCqCeTSW637FAwjl5T6_leseninehrenfeldohsunnyrausgegangenv2.jpg
END:VEVENT
BEGIN:VEVENT
DTSTART;TZID=Europe/Berlin:20250904T190000
DTEND;TZID=Europe/Berlin:20250904T230000
DTSTAMP:20260425T234242
CREATED:20250812T134426Z
LAST-MODIFIED:20250812T134543Z
UID:2559-1757012400-1757026800@bueze.de
SUMMARY:Terre des Homme - Kneipenquiz
DESCRIPTION:Habt einen tollen Abend rund um nützliches und unnützes Wissen aus allen möglichen Bereichen!  \n\n\n\n\n\n\n\nTeams bilden – fragt im Bekanntenkreis herum und schließt euch mit 3 – 6 Personen zusammen.  \n\n\n\n\n\n\n\nGebt euch einen Teamnamen! Anmeldung – am besten per Email mit: Teilnehmer*innenanzahl\, Email-Adresse einer Kontaktperson und – wenn möglich – schon einem Teamnamen: koeln@tdh-AG.de  \n\n\n\n\n\n\n\nAnmeldungen bis zwei Tage im Voraus möglich\, Anmeldestopp bei 20 Teams. \n\n\n\n\n\n\n\nEin Teilnahmebeitrag von 7 € pro Person wird am Einlass der Veranstaltung eingesammelt \n\n\n\nAlso Köpfe rauchen lassen\, Spaß haben\, im besten Fall gewinnen: Die ersten drei Teams werden prämiert – es lohnt sich!
URL:https://bueze.de/event/terre-de-hommes-kneipenquiz/
END:VEVENT
BEGIN:VEVENT
DTSTART;TZID=Europe/Berlin:20250906T180000
DTEND;TZID=Europe/Berlin:20250906T220000
DTSTAMP:20260425T234242
CREATED:20250812T134857Z
LAST-MODIFIED:20250812T134858Z
UID:2562-1757181600-1757196000@bueze.de
SUMMARY:Kokobeats - Mein Herz tanzt
DESCRIPTION:Einmal im Jahr findet die KoKoBeats statt. \n\n\n\n\n\n\n\nDie Party hieß früher Kennenlernparty.Jetzt heißt sie KoKoBeats. \n\n\n\nIn diesem Jahr ist das Motto:Mein Herz tanzt \n\n\n\n\n\n\n\n💃 Was passiert bei der Party?\n\n\n\n\nWir hören Musik.\n\n\n\nWir tanzen zusammen.\n\n\n\nEs gibt Getränke und eine Cocktailbar.\n\n\n\nEs gibt auch Essen.\n\n\n\nEs gibt eine Fotobox\n\n\n\nAlle können mitfeiern!\n\n\n\n\n\n\n\n\nKommt vorbei\, wir freuen uns auf euch!
URL:https://bueze.de/event/kokobeats-mein-herz-tanzt/
ATTACH;FMTTYPE=image/png:https://bueze.de/wp-content/uploads/2025/08/Bildschirmfoto-2025-08-12-um-15.46.49.png
END:VEVENT
BEGIN:VEVENT
DTSTART;TZID=Europe/Berlin:20250907T100000
DTEND;TZID=Europe/Berlin:20250907T160000
DTSTAMP:20260425T234242
CREATED:20250812T135123Z
LAST-MODIFIED:20250812T135140Z
UID:2566-1757239200-1757260800@bueze.de
SUMMARY:Handwerks- & Flohmarkt
DESCRIPTION:Jeden ersten Sonntag im Monat ist es soweit und ihr könnt in entspannter Atmosphäre über den Handwerks- und Flohmarkt im BüzE schlendern \n\n\n\n\n\n\n\n Wir freuen uns schon auf einen schönen Tag mit euch! \n\n\n\n\n\n\n\nEs sind dieses Mal sogar noch ein paar Stände frei! \n\n\n\n\n\n\n\n 12€/Meter & 5€/Kleiderstange  \n\n\n\nWer also einen Stand haben möchte\, meldet sich schnell per Mail an flohmarkt@bueze.de
URL:https://bueze.de/event/handwerks-flohmarkt-5/
ATTACH;FMTTYPE=image/jpeg:https://bueze.de/wp-content/uploads/2024/01/flohmarkt-scaled.jpg
END:VEVENT
BEGIN:VEVENT
DTSTART;TZID=Europe/Berlin:20250908T180000
DTEND;TZID=Europe/Berlin:20250908T200000
DTSTAMP:20260425T234242
CREATED:20250902T105945Z
LAST-MODIFIED:20250902T105946Z
UID:2672-1757354400-1757361600@bueze.de
SUMMARY:Paarabend im BüzE
DESCRIPTION:Der nächste Paarabend steht an✨ \n\n\n\n\n\n\n\nWann trifft dich deine Unsicherheit? \n\n\n\n\n\n\n\nIst es\, wenn dein*e Partner*in bei dir ist – oder wenn die Person mit anderen unterwegs ist? \n\n\n\n\n\n\n\nKannst du jemanden lieben und zulassen\, dass diese Person auch von anderen geliebt wird? \n\n\n\nKannst du lieben\, ohne besitzen zu wollen? \n\n\n\n\n\n\n\nWenn Unsicherheit auftaucht – geht es wirklich um die Beziehung selbst? \n\n\n\n\n\n\n\nOder geht es um dich\, deine Verletzlichkeit und deine Sehnsucht nach Sicherheit? \n\n\n\n\n\n\n\n✨ Beziehung ist ein Spiegel. \n\n\n\nAllein zu sein ist einfacher. Aber wirkliches Wachstum geschieht im Kontakt – dort\, wo Nähe\, Angst und Liebe sich begegnen. \n\n\n\n👉 Willst du dich besser verstehen und dich liebevoll mit deinen Themen auseinandersetzen? \n\n\n\n\n\n\n\nDann komm vorbei: \n\n\n\n📍 08.09. | 18:00–20:00 Uhr | Venloerstr. 429\, Köln I Beratungsraum \n\n\n\n\n\n\n\n📩 Anmeldung & Infos: Vera TEL.:0176 4366 5874\, vandreynova@gmail.com \n\n\n\n\n\n\n\nLasst uns Konflikt nicht vermeiden – sondern verwandeln.
URL:https://bueze.de/event/paarabend-im-bueze-2/
END:VEVENT
BEGIN:VEVENT
DTSTART;TZID=Europe/Berlin:20250912T190000
DTEND;TZID=Europe/Berlin:20250912T233000
DTSTAMP:20260425T234242
CREATED:20250812T135958Z
LAST-MODIFIED:20250819T092025Z
UID:2569-1757703600-1757719800@bueze.de
SUMMARY:Queere Wildtiere
DESCRIPTION:Die queere Show-Safari – präsentiert von Cassy Carrington  \n\n\n\n\n\n\n\nEinlass 19 Uhr \, Beginn 20 Uhr mit Grill-Spass und Gesöff \n\n\n\n\n\n\n\nDie beliebte Kölner Drag-Queen\, Entertainerin und Aktivistin Cassy Carrington lädt ein –  \n\n\n\nund zwar einen bunten Mix an queeren Künstler*innen in ihr neues Showformat „ \n\n\n\nQueere Wildteere“ – und es wird definitiv wild.  \n\n\n\n\n\n\n\nDie Comedy- und Indie-Pop Künstlerin Nadu aus Bielefeld zeigt\, wie man Haltung mit Spaß verbindet und dabei auch mal die Stacheln zeigt.  \n\n\n\n\n\n\n\nCoremy gehört zu den Shooting-Stars der Comedy- und Musik-Szene. Ihre wilden und gnadenlos witzigen Songs  \n\n\n\nüber Körperbehaarung oder Heteros besitzen eine Beobachtungsgabe\,  \n\n\n\ndie sogar Loriot erfreut hätte.  \n\n\n\nAls drittes holt Cassy die Kollegin Adelheid von Seidennaht dazu.  \n\n\n\n\n\n\n\nDieses „Kulturschock“- Urgestein ist ein Bühnen-Platzhirsch und wird definitiv einen Eindruck hinterlassen.  \n\n\n\n\n\n\n\nAußerdem lädt sich Cassy als Überraschung einen Newcomer-Act ein\, der jetzt noch nicht verraten wird.  \n\n\n\n\n\n\n\nEine Show-Safari aus Musik\, Comedy und Performance\, die man nicht verpassen darf. \n\n\n\nReservierung über termine@eschtkabarett.de \n\n\n\nOder ;  \n\n\n\nhttps://rausgegangen.de/events/queere-wildteere-0
URL:https://bueze.de/event/quere-wildtiere/
ATTACH;FMTTYPE=image/jpeg:https://bueze.de/wp-content/uploads/2025/08/KOzLffyWRru5KzBYjU7l_queerewildteererausg-scaled.jpg
END:VEVENT
BEGIN:VEVENT
DTSTART;TZID=Europe/Berlin:20250913T200000
DTEND;TZID=Europe/Berlin:20250913T233000
DTSTAMP:20260425T234242
CREATED:20250812T140629Z
LAST-MODIFIED:20250812T140629Z
UID:2575-1757793600-1757806200@bueze.de
SUMMARY:First Friday
DESCRIPTION:Ich tanze\,meine Musik\,mein Veedel\,mein Feierabend. \n\n\n\n\n\n\n\n\n\n\n\n\n\n\n\nOb Oldies oder Charts\, Rock\, Pop & Soul – DJane Walumm heizt euch ein. Tanzen zu den Hits aller Jahre\, bei lockerer Atmosphäre mit neuen Leuten und alten Freunden. \n\n\n\n\n\n\n\nFirst Friday – Jeden 1. Freitag im Monat im BüzE. Dieses Mal ausnahmsweise an einem Samstag. \n\n\n\n\n\n\n\nIm Sommer bei schönem Wetter mit Grill auf der Terrasse. \n\n\n\nEinlass: 19 UhrEintritt frei! 
URL:https://bueze.de/event/first-friday-17/
ATTACH;FMTTYPE=image/jpeg:https://bueze.de/wp-content/uploads/2024/05/27972139_1700399490022698_7973397932418453527_n-2.jpg
END:VEVENT
BEGIN:VEVENT
DTSTART;TZID=Europe/Berlin:20250914T153000
DTEND;TZID=Europe/Berlin:20250914T163000
DTSTAMP:20260425T234242
CREATED:20250812T140902Z
LAST-MODIFIED:20250812T140903Z
UID:2577-1757863800-1757867400@bueze.de
SUMMARY:Arme Socke\, dicke Decke
DESCRIPTION:Tanztheaterfür Kinder ab 4 \n\n\n\n\n\n\n\nIn der UN-Kinderrechtekonvention garantiert der § 27 jedem Kind das Recht auf soziale Sicherheit und auf altersangemessene Ausstattung mit allem\, was ein förderliches und gebildetes Aufwachsen braucht.  \n\n\n\n\n\n\n\nMit anderen Worten: dieser Paragraph stemmt sich gegen die Kinderarmut – von der auch in Deutschland jedes fünfte Kind betroffen ist. Jedes! fünfte! Kind! \n\n\n\n„Arme Socke\, dicke Decke“ entwickeln wir aktuell für Kinder ab 4 Jahren und werden Anfang Juli Premiere im Kölner Kunstzentrum Wachsfabrik / Barnes Crossing feiern. \n\n\n\nIn unserem Stück geht es natürlich nicht um gesellschaftliche und kapitalismuskristische Analysen oder um die Frage\, warum in einem der reichsten Länder der Welt jede fünfte Familie von Armut betroffen ist. Auch wenn dies für uns wichtige Aspekte der erwachsenen Auseinandersetzungen sind.  \n\n\n\n\n\n\n\nAber im Stück\, auf der darstellenden Ebene geht es um Gefühle und Bedürfnisse: wenn du nicht genug hast\, wenn du etwas brauchst\, wenn du nicht verstehst\, warum andere soviel mehr haben. Aber es geht auch um Großzügigkeit\, ums Teilen und ums solidarisch-sein. Und um Entdeckungen\, was freundlich und fair ist. Und was man alles teilen kann und danach sogar noch mehr hat. \n\n\n\nDie beiden Performerinnen Theresa Hupp und Andrea Lucas nutzen für dieses Stück spielerische Alltagssituationen und ihr reiches tänzerisches und körpersprachliches Ausdrucksvokabular\, um auch jenseits der Worte den jungen Kindern einen geschützten sinnlichen und auch humorvollen Raum zu öffnen\, in dem sie sich mit all ihren Gefühlen wiederfinden können. \n\n\n\n\n\n\n\nPerformerinnen: Theresa Hupp und Andrea LucasMalerei: Sabine RixenDramaturgie: Judith Nüßler-HuhnKomposition: Thomas Marey \n\n\n\n\n\n\n\nTickets unter: 0163 – 9719837 oder über unser Kontaktformular
URL:https://bueze.de/event/arme-socke-dicke-decke-2/
ATTACH;FMTTYPE=image/png:https://bueze.de/wp-content/uploads/2025/06/Bildschirmfoto-2025-06-12-um-10.25.51.png
END:VEVENT
BEGIN:VEVENT
DTSTART;TZID=Europe/Berlin:20250921T143000
DTEND;TZID=Europe/Berlin:20250921T220000
DTSTAMP:20260425T234242
CREATED:20250812T141246Z
LAST-MODIFIED:20250812T141247Z
UID:2579-1758465000-1758492000@bueze.de
SUMMARY:„ Stunksitzung
DESCRIPTION:Unplugged “ \n\n\n\n\n\n \n\n\n\n\n\nStudio Stunksitzung 2020 – Köln – E-Werk\n\n\n\n\n\nZwölf Ensemble-Mitglieder bieten ein hochkarätiges \n\n\n\n2 ½  stündiges Kabarett-Programm der Extra-Klasse. \n\n\n\n\n\n\n\nAuf vielfachen Wunsch unseres Ehrenfelder Publikums \n\n\n\nkommen die „Stunker“ mit ihrem neuen Programm (2o25) \n\n\n\nins BÜZE-Ehrenfeld. \n\n\n\n\n\n\n\nMit Grill-Spass und bekömmlichen Gesöff. \n\n\n\n\n\n\n\nZwei Vorstellungen; \n\n\n\nUm 15 Uhr \, (Einlass 14:30 Uhr) \n\n\n\n+ Um 20 Uhr \, (Einlass 19 Uhr) \n\n\n\nEintritt 32 Euro (+ 1 Euro vvk) \n\n\n\nBei Reservierungen die Uhrzeit angeben. \n\n\n\n\n\n\n\nNur über \n\n\n\ntermine@eschtkabarett.de
URL:https://bueze.de/event/stunksitzung/
ATTACH;FMTTYPE=image/jpeg:https://bueze.de/wp-content/uploads/2024/08/Stunk-2-scaled.jpg
END:VEVENT
BEGIN:VEVENT
DTSTART;TZID=Europe/Berlin:20250927T100000
DTEND;TZID=Europe/Berlin:20250928T220000
DTSTAMP:20260425T234242
CREATED:20250901T111443Z
LAST-MODIFIED:20250901T111534Z
UID:2668-1758967200-1759096800@bueze.de
SUMMARY:VIELFALT ERZEUGT KUNST
DESCRIPTION:Nur durch interkulturelle Ausdrücke kann vielfältige Kunst entstehen! \n\n\n\n\n\n\n\nDie interkulturelle Woche im September nutzen wir\, um diese vielfältigen Ausdrücke auf unsere Bühne zu holen🌟  \n\n\n\n\n\n\n\nAlle Veranstaltungen sind kostenlos. \n\n\n\n\n\n\n\nPROGRAMM27. September 2025 \n\n\n\n\n\n\n\nORIENT MEETS LATIN AUSZEIT \n\n\n\nAUSZEIT MAMA – Tanzworkshops10.00 bis 14.00 \n\n\n\n\n\n\n\nRAP AUS PORTUGAL MIT SIR SCRATCHDie Poesie von Camõesin Form von Rap  \n\n\n\n15.00 bis 17.30  \n\n\n\n\n\n\n\nTANZ DER KULTUREN \n\n\n\nTanz-Workshop mitafrikanischer Live Musik  \n\n\n\n18.00 bis 19.00  \n\n\n\n\n\n\n\nSnake Awake Performance19.00 bis 20.30  \n\n\n\n\n\n\n\nACHTUNG TANZFLÄCHE: KULTUR TRIFFT CHAOS \n\n\n\nTanzaufritte & Party  \n\n\n\nab 21.00 Uhr \n\n\n\nPROGRAMM \n\n\n\n28. September 2025 \n\n\n\n\n\n\n\nNSU MONOLOGE \n\n\n\nTheaterstück &  \n\n\n\nPublikumsgespräch16.00 bis 18.00 \n\n\n\n\n\n\n\nVIELFALT ERZEUGT… \n\n\n\nTanzstück der  \n\n\n\nContrast dance company& SPOHO Studierenden Master Tanz19.00 bis 20.00  \n\n\n\n\n\n\n\nBOLLWERK \n\n\n\nFilmvorführung  \n\n\n\nund Publikumsgespräch \n\n\n\n20.30 bis 22.30 \n\n\n\n\n\n\n\nDa wartet einiges auf euch! \n\n\n\nWir sind voller Vorfreude!
URL:https://bueze.de/event/vielfalt-erzeugt-kunst/
END:VEVENT
BEGIN:VEVENT
DTSTART;TZID=Europe/Berlin:20250928T160000
DTEND;TZID=Europe/Berlin:20250928T180000
DTSTAMP:20260425T234242
CREATED:20250918T130007Z
LAST-MODIFIED:20250918T130008Z
UID:2689-1759075200-1759082400@bueze.de
SUMMARY:NSU Monologe
DESCRIPTION:Am 27. und 28. September wollen wir gemeinsam die interkulturelle Woche feiern! \n\n\n\n\n\n\n\nAm 28.9 kommen dafür die NSU Monolge um zu uns ins BüzE! \n\n\n\nWir freuen uns sehr dieses dokumentarisches\, wortgetreues Theater bei uns zu haben\, das die Geschichten dreier Familien erzählt\, deren Angehörige vom NSU ermordet wurden. Mal behutsam\, mal fordernd liefert das Stück intime Einblicke in ihren Kampf um die Anerkennung der Wahrheit. Die „NSU-Monologe“ sind in Zeiten des Erstarkens von Rechtsextremismus an Aktualität leider kaum zu überbieten. \n\n\n\nWir möchten einladen\, die Perspektiven der Betroffenen kennenzulernen und sich sowohl dem Schmerz & der Wut\, als auch der Willensstärke & dem Mut der Hinterbliebenen Elif Kubaşık\, Adile Şimşek & İsmail Yozgat zu stellen. \n\n\n\n\n\n\n\nIm Anschluss an die Aufführung findet ein Podiumsgespräch mit Dana Khamis statt\, in dem unter anderem gefragt wird\, was sich seit der Selbstenttarnung des NSU getan hat & welche sozialen & politischen Konsequenzen daraus folgen. \n\n\n\n\n\n\n\nDie Veranstaltung ist kostenlos und ohne eine Anmeldung zu besuchen. Wir freuen uns auf euch ✨ \n\n\n\n\n\n\n\n16.00 Uhr bis 17.00 Uhr Aufführung17.00 Uhr bis 18.00 Uhr Publikumsgespräch \n\n\n\n\n\n\n\nGroßer Saal\, BüzEVenloer Straße 429\, 50825 Köln
URL:https://bueze.de/event/nsu-monologe/
END:VEVENT
END:VCALENDAR