BEGIN:VCALENDAR
VERSION:2.0
PRODID:-//BüzE - Bürgerzentrum Ehrenfeld e.V. - ECPv6.15.20//NONSGML v1.0//EN
CALSCALE:GREGORIAN
METHOD:PUBLISH
X-WR-CALNAME:BüzE - Bürgerzentrum Ehrenfeld e.V.
X-ORIGINAL-URL:https://bueze.de
X-WR-CALDESC:Veranstaltungen für BüzE - Bürgerzentrum Ehrenfeld e.V.
REFRESH-INTERVAL;VALUE=DURATION:PT1H
X-Robots-Tag:noindex
X-PUBLISHED-TTL:PT1H
BEGIN:VTIMEZONE
TZID:Europe/Berlin
BEGIN:DAYLIGHT
TZOFFSETFROM:+0100
TZOFFSETTO:+0200
TZNAME:CEST
DTSTART:20240331T010000
END:DAYLIGHT
BEGIN:STANDARD
TZOFFSETFROM:+0200
TZOFFSETTO:+0100
TZNAME:CET
DTSTART:20241027T010000
END:STANDARD
BEGIN:DAYLIGHT
TZOFFSETFROM:+0100
TZOFFSETTO:+0200
TZNAME:CEST
DTSTART:20250330T010000
END:DAYLIGHT
BEGIN:STANDARD
TZOFFSETFROM:+0200
TZOFFSETTO:+0100
TZNAME:CET
DTSTART:20251026T010000
END:STANDARD
BEGIN:DAYLIGHT
TZOFFSETFROM:+0100
TZOFFSETTO:+0200
TZNAME:CEST
DTSTART:20260329T010000
END:DAYLIGHT
BEGIN:STANDARD
TZOFFSETFROM:+0200
TZOFFSETTO:+0100
TZNAME:CET
DTSTART:20261025T010000
END:STANDARD
END:VTIMEZONE
BEGIN:VEVENT
DTSTART;TZID=Europe/Berlin:20251102T100000
DTEND;TZID=Europe/Berlin:20251102T160000
DTSTAMP:20260425T201829
CREATED:20251016T095216Z
LAST-MODIFIED:20251016T095217Z
UID:2757-1762077600-1762099200@bueze.de
SUMMARY:Handwerksmarkt & Flohmarkt
DESCRIPTION:Jeden ersten Sonntag im Monat ist es soweit und ihr könnt in entspannter Atmosphäre über den Handwerks- und Flohmarkt im BüzE schlendern. \n\n\n\n\n\n\n\nWir freuen uns schon auf einen schönen Tag mit euch! \n\n\n\n\n\n\n\nEs sind dieses Mal sogar noch ein paar Stände frei! \n\n\n\n\n\n\n\n12€/Meter & 5€/Kleiderstange  \n\n\n\nWer also einen Stand haben möchte\, meldet sich schnell per Mail an flohmarkt@bueze.de
URL:https://bueze.de/event/handwerksmarkt-flohmarkt/
ATTACH;FMTTYPE=image/jpeg:https://bueze.de/wp-content/uploads/2024/01/flohmarkt-scaled.jpg
END:VEVENT
BEGIN:VEVENT
DTSTART;TZID=Europe/Berlin:20251103T163000
DTEND;TZID=Europe/Berlin:20251103T200000
DTSTAMP:20260425T201829
CREATED:20251016T095949Z
LAST-MODIFIED:20251016T100014Z
UID:2759-1762187400-1762200000@bueze.de
SUMMARY:Fotos Berühren - In einfacher Sprache
DESCRIPTION:Herzliche Einladung zum Foto·Workshop:Fotos BerührenIn einfacher Sprache. \n\n\n\n\n\n\n\nFür Menschen mit und ohne Behinderung. \n\n\n\n\n\n\n\n🗓️ Wann?Am 3. November\, 16:30 bis 20 Uhr  \n\n\n\n\n\n\n\nDu kannst gehen\, wann du möchtest. \n\n\n\n\n\n\n\n📍 Wo?BüZE\, Venloer Str. 429\, 50825 Köln \n\n\n\n\n\n\n\n📞 Anmeldung bis zum 30. Oktober:Schreibe eine E-Mail an: lilli.weinstein@photoszene.deOder ruf an: 015737751325 \n\n\n\n\n\n\n\n„Fotos berühren“ bedeutet:Wenn wir Fotos anschauen\, spüren wir Gefühle. Diese Gefühle können schön sein.Oder sie können nicht so schön sein.  \n\n\n\n\n\n\n\nIn unserem Workshop schauen wir uns gemeinsam Fotos an und lassen sie auf uns wirken. Danach machen wir eigene Fotos. \n\n\n\n\n\n\n\nDafür nutzen wir kleine Dinge aus dem Alltag und gestalten Bilder zu dem Thema „Berührung“. \n\n\n\n\n\n\n\nMach mit\, wenn du gerne fotografierst\, wenn du etwas Neues ausprobieren möchtest\,wenn du Spaß an Farben hast. \n\n\n\n\n\n\n\nWir freuen uns auf dich! \n\n\n\nEvi\, Lilli und Maria
URL:https://bueze.de/event/fotos-beruehren-in-einfacher-sprache/
ATTACH;FMTTYPE=image/png:https://bueze.de/wp-content/uploads/2025/10/Bildschirmfoto-2025-10-16-um-11.57.11.png
END:VEVENT
BEGIN:VEVENT
DTSTART;TZID=Europe/Berlin:20251106T200000
DTEND;TZID=Europe/Berlin:20251106T220000
DTSTAMP:20260425T201829
CREATED:20251016T100531Z
LAST-MODIFIED:20251016T100822Z
UID:2764-1762459200-1762466400@bueze.de
SUMMARY:Stimm dich ein - Mitsingkonzert
DESCRIPTION:Kurz vor dem Startschuss und dem ersten Alaaf zur Session 2025/26 bieten wir von DEINE SITZUNG wieder einen besonderen Einstimm-Service.  \n\n\n\n\n\n\n\nMit uns zusammen könnt Ihr Euch aufwärmen\, eingrooven und vor allem: Die ganz entscheidenden Lieder üben. \n\n\n\n\n\n\n\nWir freuen uns wie jeck\, dass extra für diese Veranstaltung Peggy Sugarhill – die legendäre Frontfrau der Rockemariechen – das Team von DEINE SITZUNG verstärkt.  \n\n\n\n\n\n\n\nZusammen mit Ebasa der Meister wird Peggy Sugarhill durch den Abend führen. Für Livemusik ist das hochkarätig besetzte Orchester der Liebe zuständig.Tickets gibt es hier.
URL:https://bueze.de/event/stimm-dich-ein-mitsingkonzert/
ATTACH;FMTTYPE=image/jpeg:https://bueze.de/wp-content/uploads/2025/10/Deine-Sitzung-Stimmdichein-2025.jpg
END:VEVENT
BEGIN:VEVENT
DTSTART;TZID=Europe/Berlin:20251107T130000
DTEND;TZID=Europe/Berlin:20251108T210000
DTSTAMP:20260425T201829
CREATED:20251016T103702Z
LAST-MODIFIED:20251016T152604Z
UID:2770-1762520400-1762635600@bueze.de
SUMMARY:Festival der Solidarität
DESCRIPTION:Unser Festival der Solidarität geht in die sechste Runde! \n\n\n\n\n\n\n\nEröffnet wird es am 7. November 2025 mit einem Konzert im Kulturbunker Mülheim. \n\n\n\n\n\n\n\nAm 8. und 9. November setzen wir das Programm im Bürgerzentrum Ehrenfeld mit vielfältigen Veranstaltungen fort.  \n\n\n\n\n\n\n\nAm 10. November findet eine Lesung mit Yavuz Ekinci im \n\n\n\nBuchsalon Ehrenfeld statt\, am 11. November folgt die Filmvorführung mit anschließender Gesprächsrunde mit Kadır Akın im Filmhaus Köln. \n\n\n\n\n\n\n\nIn diesem Jahr legen wir den Schwerpunkt auf die Presse- und Meinungsfreiheit in der Türkei. Mit einem vielseitigen Programm aus Diskussionen\, Theater\, Lesung\, Filmvorführung\, Fotoausstellung und Musik möchten wir unterschiedliche Perspektiven \n\n\n\nsichtbar machen und gesellschaftliche Debatten anstoßen. \n\n\n\nUnser Ziel ist es\, mit einem breiten inhaltlichen Angebot verschiedene soziale Gruppen anzusprechen und eine große Reichweite zu erzielen – dabei knüpfen wir an die positiven Erfahrungen der letzten Jahre an. \n\n\n\n\n\n\n\nDas Festival ist zugleich ein Raum des Austauschs für Betroffene und Angehörige sowie ein wichtiges Netzwerk für ehrenamtliche Menschenrechtsaktivist*innen aus dem gesamten Bundesgebiet.
URL:https://bueze.de/event/festival-der-solidaritaet-2/
ATTACH;FMTTYPE=image/png:https://bueze.de/wp-content/uploads/2025/10/Bildschirmfoto-2025-10-16-um-12.34.42-scaled.png
END:VEVENT
BEGIN:VEVENT
DTSTART;TZID=Europe/Berlin:20251107T190000
DTEND;TZID=Europe/Berlin:20251107T233000
DTSTAMP:20260425T201829
CREATED:20251016T101005Z
LAST-MODIFIED:20251016T101005Z
UID:2768-1762542000-1762558200@bueze.de
SUMMARY:First Friday
DESCRIPTION:Ich tanze\,meine Musik\,mein Veedel\,mein Feierabend. \n\n\n\n\n\n\n\nOb Oldies oder Charts\, Rock\, Pop & Soul – DJane Walumm heizt euch ein. Tanzen zu den Hits aller Jahre\, bei lockerer Atmosphäre mit neuen Leuten und alten Freunden. \n\n\n\n\n\n\n\nFirst Friday – Jeden 1. Freitag im Monat im BüzE. Dieses Mal ausnahmsweise an einem Samstag. \n\n\n\n\n\n\n\nIm Sommer bei schönem Wetter mit Grill auf der Terrasse. \n\n\n\n\n\n\n\nEinlass: 19 UhrEintritt frei! 
URL:https://bueze.de/event/first-friday-3/
ATTACH;FMTTYPE=image/jpeg:https://bueze.de/wp-content/uploads/2024/02/27972139_1700399490022698_7973397932418453527_n.jpg
END:VEVENT
BEGIN:VEVENT
DTSTART;TZID=Europe/Berlin:20251113T190000
DTEND;TZID=Europe/Berlin:20251113T210000
DTSTAMP:20260425T201829
CREATED:20251106T093955Z
LAST-MODIFIED:20251106T093956Z
UID:2926-1763060400-1763067600@bueze.de
SUMMARY:Offene Bühne im Café Fridolin
DESCRIPTION:Es ist wieder soweit🌞Die offene Bühne lädt am 13/11 dazu ein den Abend gemeinsam ausklingen zu lassen✨ \n\n\n\n\n\n\n\nAb 19 Uhr kann dafür den Künstler*innen im Café Fridolin zugehört werden🎤 \n\n\n\n\n\n\n\n\n\n\n\nDanke @schreibwerkstattkoeln schon im Voraus für die Moderation des Abends🌟 \n\n\n\n\n\n\n\nDie offene Bühne ist frei von Rassismus\, Sexismus\, Homofeindlichkeit und jeglicher Art von Intoleranz und Ausgrenzung. Wir bitten alle Besucher*innen um ein respektvolles Miteinander. \n\n\n\nBild: @nicoberka
URL:https://bueze.de/event/offene-buehne-im-cafe-fridolin-3/
END:VEVENT
BEGIN:VEVENT
DTSTART;TZID=Europe/Berlin:20251113T190000
DTEND;TZID=Europe/Berlin:20251113T220000
DTSTAMP:20260425T201829
CREATED:20251016T115745Z
LAST-MODIFIED:20251016T115746Z
UID:2775-1763060400-1763071200@bueze.de
SUMMARY:Ecstatic Dance
DESCRIPTION:🪩dance – learning a language 🪩 \n\n\n\n\n\n\n\nHallo duuu \n\n\n\nTanz ist etwas so so individuelles. Zum Glück. Es kann zur Sprache werden\, um mit uns selbst auf neue Art zu kommunizieren. Ecstatic Dance bietet Raum für Ausdruck dieser Sprache; deiner Sprache. Frei und unbeschämt! Lustig\, wild\, laut\, leise..  \n\n\n\n\n\n\n\nAm 26/10 kommt @_tayphoon wieder zu uns. Hier ein paar Worte von ihm: \n\n\n\n\n\n\n\n„…The dancers are invited to flow with energetic waves which start in a meditative state and build up to an ecstatic outburst in which he invites the inner wild animal to be expressed and natural ecstasy to be experienced…“ \n\n\n\n🌟 \n\n\n\n\n\n\n\nWir treffen uns wieder im @buergerzentrumehrenfeld \n\n\n\n\n\n\n\n❤️ \n\n\n\n18:30 Doors Open19:00 Intro & Warm Up 19:30 Ecstatic Dance mit Tapyhoon21:30 Integration 22:00 Closing  \n\n\n\n\n\n\n\nDer VVK ist jetzt offen via Rausgegangen \n\n\n\n\n\n\n\nWir freuen uns aufs gemeinsame Tanzen!
URL:https://bueze.de/event/ecstatic-dance-15/
ATTACH;FMTTYPE=image/png:https://bueze.de/wp-content/uploads/2025/10/Bildschirmfoto-2025-10-16-um-13.57.10.png
END:VEVENT
BEGIN:VEVENT
DTSTART;TZID=Europe/Berlin:20251115T190000
DTEND;TZID=Europe/Berlin:20251115T233000
DTSTAMP:20260425T201829
CREATED:20251016T170259Z
LAST-MODIFIED:20251016T170300Z
UID:2784-1763233200-1763249400@bueze.de
SUMMARY:Sympathy for The Devil
DESCRIPTION:Hier könnt Ihr Eure zukünftige „Ex“ kennenlernen….. \n\n\n\n( oder umgekehrt) \n\n\n\n\n\n\n\nSympathy for The Devil \n\n\n\nDie Generationen übergreifende Fete mit den besten Musiktiteln \n\n\n\nder rotzfrechen Jahre bis heute. Erlebt über den satten Sound \n\n\n\nder BÜZE-Anlage: Rock & Blues\, Pop & Reggae\, African-Folk\, \n\n\n\nBlack-Soul-Musik und alles was so die „Kulturelle Aneignung“ anbietet; \n\n\n\n\n\n\n\nCome Together\, Dire Straits\, Indian-Reservation\, \n\n\n\nPink Floyd\, Adele\, In-A-Gadda-Da-Vida\, Nirwana\, \n\n\n\nWilson Pickett\, Child in Time\, A Day in Life\, Eric Burdon\, \n\n\n\nTracy Chapmann und tausend Titel mehr. \n\n\n\n\n\n\n\nWünsche werden beachtet\, \n\n\n\nDafür sorgt schon; DJ Roosevelt & Ira Lee. \n\n\n\n\n\n\n\nDer Eintritt ist natürlich frei.
URL:https://bueze.de/event/sympathy-for-the-devil/
END:VEVENT
BEGIN:VEVENT
DTSTART;TZID=Europe/Berlin:20251116T080000
DTEND;TZID=Europe/Berlin:20251120T170000
DTSTAMP:20260425T201829
CREATED:20251016T170623Z
LAST-MODIFIED:20251016T170624Z
UID:2786-1763280000-1763658000@bueze.de
SUMMARY:Arkadash Theater Festival
DESCRIPTION:Das ist kein Theaterfestival wie jedes andere. \n\n\n\n\n\n\n\nDas ist eine künstlerische Erhebung.Ein Aufbruch.Ein kollektives: „Wir sind da!“ \n\n\n\n\n\n\n\nHier bekommen Stimmen Raum\,die sonst an der Garderobe der Gesellschaft hängen bleiben. \n\n\n\n\n\n\n\nInstitutionen?Kommt rein. Setzt euch. Hört zu. Redet mit.Und lacht vielleicht mal über euch selbst. \n\n\n\n\n\n\n\nGeschichten & Identitäten gehören nicht in die Fußnoten.Sie gehören auf die Bühne – ins Rampenlicht. ✨ \n\n\n\n\n\n\n\nDas Festival ist ein Resonanzraum:Für Begegnung. Für Teilen. Für das kreative Chaos\,das jede echte Veränderung braucht. \n\n\n\n\n\n\n\n🎙 Hier wird Bühnenkunst zur Sprache\,die verbindet\, widerspricht\, bewegt\, überrascht.Poetisch. Rebellisch. Spielerisch.Und voll im Puls der Zeit. \n\n\n\n\n\n\n\n💥 Bereit für neue Perspektiven?Mehr Infos hier.
URL:https://bueze.de/event/arkadash-theater-festival/
ATTACH;FMTTYPE=image/png:https://bueze.de/wp-content/uploads/2025/10/Bildschirmfoto-2025-10-16-um-19.03.58.png
END:VEVENT
BEGIN:VEVENT
DTSTART;TZID=Europe/Berlin:20251122T190000
DTEND;TZID=Europe/Berlin:20251122T233000
DTSTAMP:20260425T201829
CREATED:20251016T170855Z
LAST-MODIFIED:20251016T170856Z
UID:2789-1763838000-1763854200@bueze.de
SUMMARY:23. Kleinkunsthölle
DESCRIPTION:Die 23. Kölner Klein-Kunst-Hölle \n\n\n\n\n\n\n\nDie Jahresbenefiz-Show im BÜZE-Ehrenfeld zu Gunsten: \n\n\n\n„Ein Ferientag für ein Kind“ \n\n\n\n\n\n\n\nKünstler aus den Bereichen Theater\, Kabarett\, Comedy & Musik geben honorarfrei ihr Bestes. \n\n\n\n\n\n\n\nDurch das Programm führt; \n\n\n\nTorsten Schlosser in Gelee \n\n\n\n\n\n\n\nDazu werden viele Preise aller Art an das Publikum verlost. \n\n\n\nReservierung über mail; termine@eschtkabarett.de
URL:https://bueze.de/event/23-kleinkunsthoelle/
ATTACH;FMTTYPE=image/png:https://bueze.de/wp-content/uploads/2025/10/Bildschirmfoto-2025-10-16-um-19.08.18.png
END:VEVENT
BEGIN:VEVENT
DTSTART;TZID=Europe/Berlin:20251125T110000
DTEND;TZID=Europe/Berlin:20251125T140000
DTSTAMP:20260425T201829
CREATED:20251125T100731Z
LAST-MODIFIED:20251125T100732Z
UID:3010-1764068400-1764079200@bueze.de
SUMMARY:"Gewalt verstehen - Opfer & Täter in einer komplexen Realität"
DESCRIPTION:Wir wollen uns beim Workshop „Gewalt verstehen – Opfer & Täter in einer komplexen Realität“ gemeinsam mit verschiedenen Perspektiven auseinander setzten\, um zu einem respektvollen\, selbstbewussten & gewaltfreien Umgang miteinander zu finden.  \n\n\n\nDer Workshop findet auf Deutsch statt (mit Möglichkeit zur Unterstützung auf Arabisch\, Französisch & Spanisch).  \n\n\n\n🗓️25/11/25 🕖11 bis 14 Uhr Kleiner Saal\, BüzE
URL:https://bueze.de/event/gewalt-verstehen-opfer-taeter-in-einer-komplexen-realitaet/
ATTACH;FMTTYPE=image/jpeg:https://bueze.de/wp-content/uploads/2025/11/orange_days3-scaled.jpg
END:VEVENT
BEGIN:VEVENT
DTSTART;TZID=Europe/Berlin:20251125T163000
DTEND;TZID=Europe/Berlin:20251125T180000
DTSTAMP:20260425T201829
CREATED:20251121T103946Z
LAST-MODIFIED:20251121T103947Z
UID:3000-1764088200-1764093600@bueze.de
SUMMARY:Ein-Eltern Themenabend
DESCRIPTION:Mutterschaft und Mutterbilder – was ist eine „gute“ Mutter?“  \n\n\n\nLiebe Ein-Eltern-Familien\,  \n\n\n\nwir laden euch herzlich zu folgendem Themenabend in Kooperation mit der ZentralE 2.0 ein💫 \n\n\n\n\n\n\n\nWelche persönlichen\, gesellschaftlich & kulturell geprägten Bilder tragen wir in uns\, wie eine gute Mutter zu sein hat? In der Kunstgeschichte finden wir zahlreiche idealisierte Mutterbilder\, die Fürsorge\, Liebe & Verehrung symbolisieren\, aber auch kritische Betrachtungen & emanzipatorische Bestrebungen\, die sich von gesellschaftlichem Druck & Erwartungen befreien💪 \n\n\n\n\n\n\n\nWelche Erfahrungen & Erinnerungen mit unseren Müttern & Großmüttern haben unsere Vorstellungen & unser Verhalten beeinflusst? Wie nehmen wir uns selbst als Mutter wahr\, & was möchten wir unseren Kindern vermitteln?  \n\n\n\n\n\n\n\nDie Veranstaltung wird moderiert von Marie-Theres Braun\, die als Beraterin im Projekt Aktiv plus im Zentrum für alleinerziehende Eltern / ZentralE 2.0 in der Kölner Südstadt arbeitet. Ihr erhaltet zudem einen kurzen Input zu den Unterstützungsmöglichkeiten der ZentralE 2.0.  \n\n\n\n\n\n\n\nWann und wo?  \n\n\n\nDienstag\, 25.11.\, von 16:30 Uhr bis 18:00 Uhr im Eckzimmer des BüzE.  \n\n\n\n\n\n\n\nEine parallele Kinderbetreuung ist nach Rücksprache ab 16 Uhr in der Minimäusepiste möglich. Es stehen auch einige wenige Betreuungsplätze für Kleinkinder zur Verfügung.  \n\n\n\n\n\n\n\nAnmeldung (solange freie Plätze verfügbar sind)\, über familien@bueze.de. Bei Kinderbetreuung bitte mit Angabe des Alters des Kindes.  \n\n\n\n\n\n\n\nWir freuen uns auf eure Anmeldungen!
URL:https://bueze.de/event/ein-eltern-themenabend/
ATTACH;FMTTYPE=image/jpeg:https://bueze.de/wp-content/uploads/2025/11/65-scaled.jpg
END:VEVENT
BEGIN:VEVENT
DTSTART;TZID=Europe/Berlin:20251126T150000
DTEND;TZID=Europe/Berlin:20251126T170000
DTSTAMP:20260425T201829
CREATED:20251125T100900Z
LAST-MODIFIED:20251125T100901Z
UID:3013-1764169200-1764176400@bueze.de
SUMMARY:TANZWORKSHOP "Tanz der stärke"
DESCRIPTION:Gemeinsam mit der Tanzpädagogin & Tanztherapeutin Esther Schurna entdecken die Teilnehmerinnen den Körper als Quelle von Stärke\, Selbstbestimmung & Lebendigkeit – & setzen ein sichtbares Zeichen gegen Gewalt an Frauen. \n\n\n\n\n\n\n\nDer Workshop endet mit einer gemeinsamen Teilnahme an der Demonstration im Anschluss. \n\n\n\n\n\n\n\n🗓️26/11/25🕖15 bis 17 UhrGroßer Saal\, BüzE
URL:https://bueze.de/event/tanzworkshop-tanz-der-staerke/
ATTACH;FMTTYPE=image/jpeg:https://bueze.de/wp-content/uploads/2025/11/orange_days2-scaled.jpg
END:VEVENT
BEGIN:VEVENT
DTSTART;TZID=Europe/Berlin:20251128T200000
DTEND;TZID=Europe/Berlin:20251128T233000
DTSTAMP:20260425T201829
CREATED:20251016T171036Z
LAST-MODIFIED:20251016T171121Z
UID:2793-1764360000-1764372600@bueze.de
SUMMARY:They will slay
DESCRIPTION:🚨 RECORD HIGH LEVELS OF SLAY DETECTED IN THE AREA 🚨 \n\n\n\n\n\n\n\nProlonged exposure might lead to feeling good\, being covered in sparkles and experiencing queer joy 💕 \n\n\n\n\n\n\n\nSo let’s slay together with @essipo_sagtdeineaugensindmeine@hendriqua@drag_roshni@missass.nostalgia@_samantha_doll_g@senyaspivak \n\n\n\n\n\n\n\nYour host and favourite sleep paralysis demon @xeni.slay.ua😈🍅 \n\n\n\n\n\n\n\n🗓️ Friday\, Nov 28th 📌 @buergerzentrumehrenfeld⏰ Door 20:00 | Show 21:00 🎟️ VVK 10-16€ (link in bio) AK 20€  \n\n\n\n🍅 16+ only \n\n\n\n\n\n\n\nPhoto by @frl_hoffmannDesign by @xeni.slay.ua \n\n\n\n\n\n\n\n#queercologne#flintacologne#dragshowcologne#ballroomcologne#queernightlife#xenislay#slay
URL:https://bueze.de/event/2793/
ATTACH;FMTTYPE=image/png:https://bueze.de/wp-content/uploads/2025/10/Bildschirmfoto-2025-10-16-um-19.09.14.png
END:VEVENT
BEGIN:VEVENT
DTSTART;TZID=Europe/Berlin:20251129T190000
DTEND;TZID=Europe/Berlin:20251129T233000
DTSTAMP:20260425T201829
CREATED:20251121T110317Z
LAST-MODIFIED:20251121T110657Z
UID:3003-1764442800-1764459000@bueze.de
SUMMARY:Soli-Party zugunsten der autonomen Frauenhäuser Köln
DESCRIPTION:Soli-Party zugunsten der autonomen Frauenhäuser Köln!🙌 \n\n\n\n\n\n\n\nSpendenempfehlung: 3-30 €Alle Spenden gehen zu 100% an die Autonomen Frauenhäuser in Köln. \n\n\n\n\n\n\n\nWir\, die Solitres(s)en\, sind eine Gruppe von Lesben und Queers. Jedes Jahr organisieren wir rund um den 25.11.\, dem internationalen Tag gegen patriarchale Gewalt\, eine Party. \n\n\n\nEs ist widerlich\, dass jede 3. Frau in ihrem Leben Gewalt erfährt. Die Studien\, die es bisher gibt\, zeigen\, dass TIN-Personen sogar noch stärker betroffen sind. Das ist nicht hinnehmbar! \n\n\n\n\n\n\n\nMit dieser Party wollen wir euch empowern und vernetzen\, damit wir uns gegenseitig stärken können\, gegen Gewalt einzutreten. \n\n\n\n\n\n\n\nUnite in Solidarity👏 \n\n\n\nKlar ist: auf dieser Party wollen wir ein wertschätzendes und achtsames Miteinander. Für die Unterschiedlichkeiten\, die wir haben\, wünschen wir uns Respekt und Offenheit. Du hast Verantwortung für dein Handeln. Trage dazu bei\, dass die Party cool wird und sich alle wohl fühlen. Falls du dich unwohl fühlst\, kannst du dich jederzeit am Eingang oder an die Theke melden. \n\n\n\n\n\n\n\nViel Spaß! Wir freuen uns mit dir zu feiern! \n\n\n\n\n\n\n\nDeine Solitres(s)en! \n\n\n\n21:00 bis 22:30:neonjoe [worldbeats/ pop] \n\n\n\n22:30 bis 0:00:DJ candys crush brings you sapphic\, juicy and energetic music for all you bodies moving together. \n\n\n\n0:00 bis Ende:Muckeclick_ \n\n\n\n\n\n\n\n💌LoveLetterBox – mach mit! \n\n\n\nSo geht’s:Wenn du mitmachen willst\, befestige eine Spielkarte an deiner Kleidung\, so dass sie gut sichtbar ist. Wenn dir eine Person auf der Party auffällt\, weil sie besonders toll tanzt oder ein schönes Lächeln hat oder weil du sie schon länger kennen lernen wolltest oder ihr das schon immer mal sagen wolltest: jetzt ist der Moment! \n\n\n\nWenn die Person eine Spielkarte angeheftet hat\, schreibe ihr einen „Brief“. Darin kannst du Liebe\, Bewunderung\, Wertschätzung\, Dankbarkeit für die Person ausdrücken. Du kannst ein Kontaktangebot machen\, indem du deine Karte oder eine andere Kontaktmöglichkeit drauf schreibst. \n\n\n\n\n\n\n\nAußen auf den Brief schreibst du die Spielkarte der Person\, die du toll findest\, also z.B. Piek 8 oder Kreuz 2 oder so. \n\n\n\n\n\n\n\nUm 22.30 Uhr werden wir die LoveLetterBox leeren und die Briefe verteilen. Vielleicht bekommst du auch einen? \n\n\n\nViel Spaß!
URL:https://bueze.de/event/soli-party-zugunsten-der-autonomen-frauenhaeuser-koeln/
ATTACH;FMTTYPE=image/png:https://bueze.de/wp-content/uploads/2025/11/Bildschirmfoto-2025-11-21-um-11.53.52.png
END:VEVENT
END:VCALENDAR