BEGIN:VCALENDAR
VERSION:2.0
PRODID:-//BüzE - Bürgerzentrum Ehrenfeld e.V. - ECPv6.15.20//NONSGML v1.0//EN
CALSCALE:GREGORIAN
METHOD:PUBLISH
X-ORIGINAL-URL:https://bueze.de
X-WR-CALDESC:Veranstaltungen für BüzE - Bürgerzentrum Ehrenfeld e.V.
REFRESH-INTERVAL;VALUE=DURATION:PT1H
X-Robots-Tag:noindex
X-PUBLISHED-TTL:PT1H
BEGIN:VTIMEZONE
TZID:Europe/Berlin
BEGIN:DAYLIGHT
TZOFFSETFROM:+0100
TZOFFSETTO:+0200
TZNAME:CEST
DTSTART:20250330T010000
END:DAYLIGHT
BEGIN:STANDARD
TZOFFSETFROM:+0200
TZOFFSETTO:+0100
TZNAME:CET
DTSTART:20251026T010000
END:STANDARD
BEGIN:DAYLIGHT
TZOFFSETFROM:+0100
TZOFFSETTO:+0200
TZNAME:CEST
DTSTART:20260329T010000
END:DAYLIGHT
BEGIN:STANDARD
TZOFFSETFROM:+0200
TZOFFSETTO:+0100
TZNAME:CET
DTSTART:20261025T010000
END:STANDARD
BEGIN:DAYLIGHT
TZOFFSETFROM:+0100
TZOFFSETTO:+0200
TZNAME:CEST
DTSTART:20270328T010000
END:DAYLIGHT
BEGIN:STANDARD
TZOFFSETFROM:+0200
TZOFFSETTO:+0100
TZNAME:CET
DTSTART:20271031T010000
END:STANDARD
END:VTIMEZONE
BEGIN:VEVENT
DTSTART;TZID=Europe/Berlin:20260301T100000
DTEND;TZID=Europe/Berlin:20260301T160000
DTSTAMP:20260425T141533
CREATED:20260212T131442Z
LAST-MODIFIED:20260212T131443Z
UID:3194-1772359200-1772380800@bueze.de
SUMMARY:Handwerksmarkt und Flohmarkt
DESCRIPTION:Jeden ersten Sonntag im Monat ist es soweit und ihr könnt in entspannter Atmosphäre über den Handwerks- und Flohmarkt im BüzE schlendern. \n\n\n\nWir freuen uns schon auf einen schönen Tag mit euch! \n\n\n\nEs sind dieses Mal sogar noch ein paar Stände frei! Anmelden könnt ihr euch hier.
URL:https://bueze.de/event/handwerksmarkt-und-flohmarkt-4/
ATTACH;FMTTYPE=image/jpeg:https://bueze.de/wp-content/uploads/2025/11/IMG_9894-scaled.jpg
END:VEVENT
BEGIN:VEVENT
DTSTART;TZID=Europe/Berlin:20260302T193000
DTEND;TZID=Europe/Berlin:20260302T220000
DTSTAMP:20260425T141533
CREATED:20260212T133417Z
LAST-MODIFIED:20260212T133843Z
UID:3197-1772479800-1772488800@bueze.de
SUMMARY:The Monday Talks
DESCRIPTION:The Monday Talks ist eine feministische Talkshow\, moderiert von Alina Kuhl. In jeder Ausgabe lädt sie drei Redner*innen ein\, um gemeinsam über aktuelle feministische Themen zu sprechen. \n\n\n\nGegründet wurde das Format im November 2022 in Köln mit dem Wunsch\, einen Raum für feministische Debatten zu schaffen\, der wirklich für alle zugänglich ist. Bei The Monday Talks sind alle willkommen: unabhängig von Geschlecht\, feministischen Vorkenntnissen oder davon\, ob man alleine oder gemeinsam kommt. Neugier reicht völlig aus. \n\n\n\nWas die Abende besonders macht\, sind die Menschen und die Gespräche. Das Publikum kann Fragen stellen\, mitdiskutieren und sich auch untereinander austauschen. So entstehen Begegnungen\, neue Verbindungen und ein Gefühl von feministischer Solidarität\, also perfekt\, um gestärkt in die Woche zu starten. \n\n\n\n\n\n\n\nTickets gibt es hier.
URL:https://bueze.de/event/the-monday-talks/
ATTACH;FMTTYPE=image/png:https://bueze.de/wp-content/uploads/2026/02/image.png
END:VEVENT
BEGIN:VEVENT
DTSTART;TZID=Europe/Berlin:20260303T200000
DTEND;TZID=Europe/Berlin:20260303T223000
DTSTAMP:20260425T141533
CREATED:20260108T112505Z
LAST-MODIFIED:20260108T112829Z
UID:3096-1772568000-1772577000@bueze.de
SUMMARY:Fortuna Ehrenfeld - Live! at the Hollywood Bowl Tour 2026
DESCRIPTION:Fortuna Ehrenfeld – Live! at the Hollywood Bowl Tour 2026 \n\n\n\n\n\n\n\nDer März wird magisch – Back to the Boots! Ein Jahr Pause hatte sich die Band rund um den Chaospoeten Martin Bechler verordnet. Denken\, Schreiben\, Selfcare. \n\n\n\n\n\n\n\nMit dem Paukenschlag einer bums-ausverkauften Kölner Philharmonie melden sich die Kult Kölner nun zurück und announcen ihre nächste Headliner Tour ab März 2026 (D\, A\, CH). Und wie immer werden die Fortuna Shows ein unberechenbarer Tritt ins Herz für alle Freund:innen der schamlosen Melancholie und gepflegten Eskalation. Sei dabei\, wenn aus den Fortuna-Hymnen über das Leben\, die Liebe und die Abgründe dazwischen ein kollektiver Pulsschlag wird. \n\n\n\n\n\n\n\nDas magische Trio ist zurückMartin Bechler – Jenny Thiele – Jannis BentlerEinlass: 19 UhrShow: 20 UhrTickets gibt es hier.
URL:https://bueze.de/event/fortuna-ehrenfeld-live-at-the-hollywood-bowl-tour-2026/
ATTACH;FMTTYPE=image/png:https://bueze.de/wp-content/uploads/2026/01/Bildschirmfoto-2026-01-08-um-12.02.33.png
END:VEVENT
BEGIN:VEVENT
DTSTART;TZID=Europe/Berlin:20260304T200000
DTEND;TZID=Europe/Berlin:20260304T223000
DTSTAMP:20260425T141533
CREATED:20260108T113032Z
LAST-MODIFIED:20260108T113033Z
UID:3103-1772654400-1772663400@bueze.de
SUMMARY:Fortuna Ehrenfeld - Live! at the Hollywood Bowl Tour 2026
DESCRIPTION:Fortuna Ehrenfeld – Live! at the Hollywood Bowl Tour 2026 \n\n\n\n\n\n\n\nDer März wird magisch – Back to the Boots! Ein Jahr Pause hatte sich die Band rund um den Chaospoeten Martin Bechler verordnet. Denken\, Schreiben\, Selfcare. \n\n\n\n\n\n\n\nMit dem Paukenschlag einer bums-ausverkauften Kölner Philharmonie melden sich die Kult Kölner nun zurück und announcen ihre nächste Headliner Tour ab März 2026 (D\, A\, CH). Und wie immer werden die Fortuna Shows ein  \n\n\n\n\n\n\n\nDas magische Trio ist zurückMartin Bechler – Jenny Thiele – Jannis BentlerEinlass: 19 UhrShow: 20 UhrTickets gibt es hier.
URL:https://bueze.de/event/fortuna-ehrenfeld-live-at-the-hollywood-bowl-tour-2026-2/
ATTACH;FMTTYPE=image/png:https://bueze.de/wp-content/uploads/2026/01/Bildschirmfoto-2026-01-08-um-12.02.33.png
END:VEVENT
BEGIN:VEVENT
DTSTART;TZID=Europe/Berlin:20260305T193000
DTEND;TZID=Europe/Berlin:20260305T233000
DTSTAMP:20260425T141533
CREATED:20260109T133420Z
LAST-MODIFIED:20260109T133654Z
UID:3105-1772739000-1772753400@bueze.de
SUMMARY:DIE BRAUT HAUT INS AUGE
DESCRIPTION:DIE BRAUT HAUT INS AUGE \n\n\n\n\n\n\n\n2024 scheint das Jahr von Die Braut Haut Ins Auge zu sein\, obwohl sich die Band bereits Ende der 90er Jahre aufgelöst hat. Zuerst veröffentlicht das Münchner Trikont-Label erstmals alle Alben der Band digital\, im Oktober 2024 kam dann „Die Braut haut ins Auge Hits 1990 – 2000“ exklusiv auf Vinyl heraus. Obendrauf brachte die Band mit „Was nehm ich mit?“ im Dezember 2024 erstmals ein Album komplett live auf die Bühne. \n\n\n\n\n\n\n\nJa\, Die Braut Haut Ins Auge war tatsächlich die einzige Frauen-Band der sogenannten Hamburger Schule! Gleich mit ihrem ersten Longplayer werden sie vom Major BMG/Ariola gesignt. Die Erwartungen sind groß\, die Szene lebendig\, die Zeit scheint reif. Doch für den ganz großen kommerziellen Durchbruch ist der Sound der Band vielleicht doch zu undergroundig\, zu individuell\, zu verspielt. „Was Nehm Ich Mit?“ beginnt stilgerecht mit einem Cover des ewigen Pop-Underdogs Jonathan Richman\, „Tandem-Sprung“. Der Sound der Platte ist vielfältig\, von Indie-Krachern geht es über Sixties-Beat bis zum Alternative Country. Auch die psychedelischen Klänge des amerikanischen Paisley Undergrounds aus den1980er Jahren scheinen ein Einfluss zu sein\, eine Retro-Orgel ist omnipräsent auf der Platte. \n\n\n\nDie Texte sind witzig\, kreativ\, und auf dem titelgebenden Track auch absurd-melancholisch: „Die Sirenen heulen\, der Himmel ist feuerrot / Ich lieg im Bett und wünschte\, ich wär‘ tot … und die Frage aller Fragen\, um die alles kreist / Ist das\, was ich nicht weiß: / Was nehm ich mit\, wenn es Krieg gibt?“ Mit „Pop Ist Tot“ erscheint 1998 das finale Album von „Die Braut Haut Ins Auge“\, zum Indie Hit „Wenn du gehst“ gibt es ein Musikvideo\, das auf diversen Videokanälen in Rotation geht. \n\n\n\nNach Auflösung der Band verfolgt Bernadette La Hengst erfolgreich ihre Solokarriere mit bis heute acht Album-Veröffentlichungen und Projekten an diversen Theatern. Peta Devlin war und ist ebenfalls weiterhin äußerst umtriebig als Mitglied von Bands wie Cow\, Oma Hans und Bela B. mit Smokestack Lightnin’\, die All-Female Bands Hoo Doo Girl und Mars Needs Women sowie als Musik und Hörspielproduzentin. \n\n\n\n\n\n\n\nBernadette La Hengst: Gesang\,  \n\n\n\nGitarre \n\n\n\nPeta Devlin: Gesang\, Bass \n\n\n\nElla Mae Hengst: Keyboards \n\n\n\nKatharina Lattke: Schlagzeug \n\n\n\n\n\n\n\n© Foto: Horst Müller \n\n\n\n\n\n\n\nDo.05.03.26 | Einlass 19:30 h | Beginn 20:30 hTickets hier.
URL:https://bueze.de/event/die-braut-haut-ins-auge/
ATTACH;FMTTYPE=image/png:https://bueze.de/wp-content/uploads/2026/01/Bildschirmfoto-2026-01-09-um-14.32.31.png
END:VEVENT
BEGIN:VEVENT
DTSTART;TZID=Europe/Berlin:20260306T183000
DTEND;TZID=Europe/Berlin:20260306T190000
DTSTAMP:20260425T141533
CREATED:20260304T170410Z
LAST-MODIFIED:20260304T170410Z
UID:3327-1772821800-1772823600@bueze.de
SUMMARY:WHEELTALK PANEL
DESCRIPTION:Vier Perspektiven auf das Thema Radfahren als FLINTA*. \n\n\n\n\n\n\n\nWann: Einlass um 18:30Uhr Start um 19:00Uhr \n\n\n\nWo: Café Fridolin (im Büze)  \n\n\n\n\n\n\n\nKOSTENLOSE TICKETS ÜBER @CYCLITS
URL:https://bueze.de/event/wheeltalk-panel/
ATTACH;FMTTYPE=image/jpeg:https://bueze.de/wp-content/uploads/2026/03/Weltfrauentag-Post3-scaled.jpg
END:VEVENT
BEGIN:VEVENT
DTSTART;TZID=Europe/Berlin:20260306T190000
DTEND;TZID=Europe/Berlin:20260306T233000
DTSTAMP:20260425T141533
CREATED:20260212T134653Z
LAST-MODIFIED:20260212T134654Z
UID:3205-1772823600-1772839800@bueze.de
SUMMARY:First Friday
DESCRIPTION:Ich tanze\,meine Musik\,mein Veedel\,mein Feierabend. \n\n\n\n\n\n\n\nOb Oldies oder Charts\, Rock\, Pop & Soul – DJane Walumm heizt euch ein. Tanzen zu den Hits aller Jahre\, bei lockerer Atmosphäre mit neuen Leuten und alten Freunden. \n\n\n\n\n\n\n\nFirst Friday – Jeden 1. Freitag im Monat im BüzE. \n\n\n\nEinlass: 19 UhrEintritt frei! 
URL:https://bueze.de/event/first-friday-6/
ATTACH;FMTTYPE=image/jpeg:https://bueze.de/wp-content/uploads/2024/05/27972139_1700399490022698_7973397932418453527_n-2.jpg
END:VEVENT
BEGIN:VEVENT
DTSTART;TZID=Europe/Berlin:20260307T190000
DTEND;TZID=Europe/Berlin:20260307T233000
DTSTAMP:20260425T141533
CREATED:20260212T135844Z
LAST-MODIFIED:20260212T135920Z
UID:3207-1772910000-1772926200@bueze.de
SUMMARY:Ecstatic Dance
DESCRIPTION:Ecstatic Dance ist eine so tolle Kombination aus Bewegung\, Spaß Meditation\, Tiefgang und Horizonterweiterung.  \n\n\n\n\n\n\n\nEin richtig gutes Tool um sich mit Freude im Herzen in neue Dimensionen hinein weiterzuentwickeln. Endlich mal ein Raum\, in der keine Bewegung zu verrückt ist. Dem Körper die Kontrolle zu übergeben ist eine Form der Reinigung. \n\n\n\n\n\n\n\nEinlass 19:00 Uhr\, Beginn 19:30 Uhr\, Ende 23 Uhr \n\n\n\n\n\n\n\n@ecstaticdancekoelnTickets hier. \n\n\n\n\n\n\n\n15€ ermäßigt\, 20€ Regulär\, 25€ Supporter 
URL:https://bueze.de/event/ecstatic-dance-17/
ATTACH;FMTTYPE=image/png:https://bueze.de/wp-content/uploads/2026/02/Bildschirmfoto-2026-02-12-um-14.55.09.png
END:VEVENT
BEGIN:VEVENT
DTSTART;TZID=Europe/Berlin:20260308T160000
DTEND;TZID=Europe/Berlin:20260308T180000
DTSTAMP:20260425T141533
CREATED:20260304T163821Z
LAST-MODIFIED:20260304T164953Z
UID:3315-1772985600-1772992800@bueze.de
SUMMARY:„Die Hälfte der Welt gehört uns – Frauen\, Wahlrecht und politische Macht“
DESCRIPTION:Anlässlich des Internationalen Frauentags möchten wir Sie zu einem besonderen Filmabend einladen: \n\n\n\n\n\n\n\n\n\n\n\n🎬 Film: Die Hälfte der Welt gehört uns \n\n\n\n\n\n\n\n📅 Datum: 08.03.2026 \n\n\n\n\n\n\n\n🕓 Uhrzeit: 16:00 – 18:00 Uhr \n\n\n\n\n\n\n\n📍 Ort: Kleiner Saal\, Bürgerzentrum Ehrenfeld \n\n\n\nNach der Filmvorführung gibt es eine offene Diskussion\, moderiert von der Schriftstellerin Stefany Pauli\, bei der wir gemeinsam über Frauenrechte\, Wahlrecht und politische Mitbestimmung ins Gespräch kommen. \n\n\n\n\n\n\n\n🍪 Snacks und Getränke sind gesorgt – ein lockerer Rahmen für Austausch\, Vernetzung und Reflexion. \n\n\n\nWir freuen uns auf Ihr Kommen! \n\n\n\n\n\n\n\n\n\n\n\n🗓️ Programm / Ablauf (16:00 – 18:00 Uhr)\n\n\n\n\n\n\n\nZeitProgrammpunkt16:00 – 16:10Begrüßung & Einführung – Anlass Weltfrauentag\, Einführung ins Thema Wahlrecht & Frauen in Politik16:10 – 17:00Filmvorführung – Die Hälfte der Welt gehört uns (51 Min)17:00 – 17:40Offene Diskussion\, moderiert von Stefany Pauli – Fragen zu Wahlrecht\, Mitbestimmung\, politische Teilhabe17:40 – 18:00Snacks & Getränke / informeller Austausch – Netzwerken\, Gespräche
URL:https://bueze.de/event/die-haelfte-der-welt-gehoert-uns-frauen-wahlrecht-und-politische-macht/
ATTACH;FMTTYPE=image/jpeg:https://bueze.de/wp-content/uploads/2026/03/Weltfrauentag-Post-scaled.jpg
END:VEVENT
BEGIN:VEVENT
DTSTART;TZID=Europe/Berlin:20260312T110000
DTEND;TZID=Europe/Berlin:20260312T114500
DTSTAMP:20260425T141533
CREATED:20260212T141025Z
LAST-MODIFIED:20260212T141208Z
UID:3210-1773313200-1773315900@bueze.de
SUMMARY:Philharmonie Veedel Baby
DESCRIPTION:»Mondlichtmelodien« \n\n\n\n\n\n\n\nMit ihrem geheimnisvollen Gesang locken die »fairies«\, die irischen Feen\, den Wandermusikanten in die einsamen Berge. Eine ganze Nacht lang muss er dort auf seiner Harfe für sie zum Tanz spielen. Als er morgens ins Dorf zurückkehrt\, sind hundert Jahre vergangen… Musik ist in den keltischen Märchen und Sagen allgegenwärtig. Sabrina Palm und Tom Daun laden mit Fiddle und Harfe in zauberhafte Klangwelten der grünen Insel ein: Mondlichtmelodien zum Lauschen und Träumen\, Tanzrhythmen zum Mitmachen\, witzige irische Nursery Songs\, gesungen und gespielt auf Harfen\, Geigen\, Flöten und sogar Küchenlöffeln. Und versprochen: Wenn das Licht im Saal wieder angeht\, sind keine hundert Jahre vergangen! \n\n\n\n\n\n\n\nGefördert vom Kuratorium KölnMusik e. V. \n\n\n\n\n\n\n\nTickets gibt es hier.
URL:https://bueze.de/event/philharmonie-veedel-baby/
ATTACH;FMTTYPE=image/webp:https://bueze.de/wp-content/uploads/2026/02/2025-veedel-baby3-mondlichtmelodien-web-928x1080px.jpg__1440x810_crop_subject_location-464541_subsampling-2_upscale.webp
END:VEVENT
BEGIN:VEVENT
DTSTART;TZID=Europe/Berlin:20260313T200000
DTEND;TZID=Europe/Berlin:20260313T220000
DTSTAMP:20260425T141533
CREATED:20260212T145758Z
LAST-MODIFIED:20260212T145759Z
UID:3216-1773432000-1773439200@bueze.de
SUMMARY:Wilfried Schmickler
DESCRIPTION:„Herr Schmickler bitte…“ \n\n\n\n-Das neue Programm \n\n\n\n\n\n\n\nIn seinem neuen Programm heißt es: „Herr Schmickler bitte!“\, und diesem Aufruf folgt er gerne: \n\n\n\nmit seiner Mischung aus gesprochenem Wort\, \n\n\n\nlyrischen Gedichten und ausdrucksstarkem Gesang echauffiert sich weiterhin \n\n\n\nüber gesellschaftliche Mißstände und Ungerechtigkeiten in dieser Welt. \n\n\n\n\n\n\n\nWILFRIED SCHMICKLER will seriös unterhalten\, gut gelaunt rumnörgeln\, abendfüllend aufheitern\, \n\n\n\nmit Text-Kaskaden\, Schmäh-Tiraden und Spott-Gesängen. \n\n\n\nMit seinem Aufruf zu mehr Toleranz und Mitgefühl \n\n\n\nwird er weiter einen Beitrag  zur „Verfreundlichung der Welt“’ leisten! \n\n\n\n\n\n\n\nWILFRIED SCHMICKLER wurde mit den 4 wichtigsten Kabarett-Preisen ausgezeichnet : \n\n\n\nPRIX PANTHEON\,  DEUTSCHER KABARETTPREIS\,  DEUTSCHER KLEINKUNSTPREIS und SALZBURGER STIER!  \n\n\n\nEr war fast 30 Jahre bei den WDR-Mitternachtsspitzen („Aufhören Herr Becker“) \n\n\n\nund jeden Montag um kurz vor 11 stellt er auf  WDR  2 die „Montagsfrage“. \n\n\n\n\n\n\n\nEinlass 19 Uhr\, Beginn 20 Uhr \n\n\n\nEintritt 23 Euro plus 1 Euro vvk \n\n\n\nMit Grill-Spass & Gesöff
URL:https://bueze.de/event/wilfried-schmickler/
ATTACH;FMTTYPE=image/png:https://bueze.de/wp-content/uploads/2026/02/Bildschirmfoto-2026-02-12-um-15.47.32.png
END:VEVENT
BEGIN:VEVENT
DTSTART;TZID=Europe/Berlin:20260314T200000
DTEND;TZID=Europe/Berlin:20260314T230000
DTSTAMP:20260425T141533
CREATED:20260212T150643Z
LAST-MODIFIED:20260212T150644Z
UID:3220-1773518400-1773529200@bueze.de
SUMMARY:Almost Friday the 13th - Queerlesque ShowThe Drag Show
DESCRIPTION:It’s the night after Friday the 13th\, but mystery is still in the air! 💫 \n\n\n\n\n\n\n\nXENI SLAY and MADAME MIDNIGHT are inviting you to embark on a mythical adventure! \n\n\n\nSTARRING: \n\n\n\nMARLA MIRAGE \n\n\n\nBREE MARCIANO \n\n\n\nVINCENZO 007 \n\n\n\n\n\n\n\n🔮 Get ready for the night of  \n\n\n\nDrag \n\n\n\nLive music \n\n\n\nBourlesque \n\n\n\nBallroom  \n\n\n\nCircus and more!  \n\n\n\n\n\n\n\n16+ only  \n\n\n\n\n\n\n\nTickets gibt es hier.
URL:https://bueze.de/event/almost-friday-the-13th-queerlesque-showthe-drag-show/
ATTACH;FMTTYPE=image/png:https://bueze.de/wp-content/uploads/2026/02/Bildschirmfoto-2026-02-12-um-16.04.07.png
END:VEVENT
BEGIN:VEVENT
DTSTART;TZID=Europe/Berlin:20260317T180000
DTEND;TZID=Europe/Berlin:20260317T200000
DTSTAMP:20260425T141533
CREATED:20251016T165922Z
LAST-MODIFIED:20260218T122748Z
UID:2781-1773770400-1773777600@bueze.de
SUMMARY:Workshop zum Thema Sexualität & Pubertät
DESCRIPTION:Liebe\, Gefühle und der verantwortungsvolle Umgang mit Sexualität – das sind Themen\, die auch für Jugendliche und junge Erwachsene mit einer Behinderung wichtig sind. Doch wie spreche ich darüber? Wie kläre ich mein Kind verständlich auf? Für viele Eltern und Angehörigen eine nicht ganz einfache Aufgabe. \n\n\n\n\n\n\n\nIn unserem Workshop gehen wir genau diesen Fragen nach:🔹Wie begleiten wir die Pubertät einfühlsam?🔹Wie reden wir über Liebe\, Gefühle\, Sexualität und Selbstbestimmung?🔹Wie vermitteln wir Wissen zu Verhütung? \n\n\n\n\n\n\n\nDer Workshop wird durchgeführt von den Expert*innen Laura König-Thomas & Martin Gnielka von pro familia. ✨ \n\n\n\n\n\n\n\n✉️Anmeldung über: m.schumacher@bueze.de
URL:https://bueze.de/event/workshop-zum-thema-sexualitat-pubertat/
ATTACH;FMTTYPE=image/jpeg:https://bueze.de/wp-content/uploads/2025/10/Workshop_Pubertaet-und-Sexualitaet-1-scaled.jpg
END:VEVENT
BEGIN:VEVENT
DTSTART;TZID=Europe/Berlin:20260320T200000
DTEND;TZID=Europe/Berlin:20260320T233000
DTSTAMP:20260425T141533
CREATED:20260212T151333Z
LAST-MODIFIED:20260212T151334Z
UID:3223-1774036800-1774049400@bueze.de
SUMMARY:Escht Kabarett auf dem Grill
DESCRIPTION:Verschiedene Künstlerinnen und Künstler trotzen der Welt \, mit vielen Überraschungen. \n\n\n\n\n\n\n\nDurch das Programm führt der Bühnenköbes \n\n\n\n\n\n\n\nMit Grill-Spass & Gesöff. \n\n\n\nEinlass 19 Uhr (Grill-Eröffnung) \n\n\n\nBeginn 20 Uhr \n\n\n\nEintritt 10 Euro   \n\n\n\nReservierung über termine@eschtkabarett.de
URL:https://bueze.de/event/escht-kabarett-auf-dem-grill-3/
ATTACH;FMTTYPE=image/jpeg:https://bueze.de/wp-content/uploads/2024/01/ESCHT-Katze-HP.jpg
END:VEVENT
BEGIN:VEVENT
DTSTART;TZID=Europe/Berlin:20260324T190000
DTEND;TZID=Europe/Berlin:20260324T213000
DTSTAMP:20260425T141533
CREATED:20260317T134230Z
LAST-MODIFIED:20260317T134253Z
UID:3437-1774378800-1774387800@bueze.de
SUMMARY:Lesen in Ehren*feld – queerfeministische-Lesereihe in Köln*
DESCRIPTION:Lesen in Ehren*feld – queerfeministische-Lesereihe in Köln* \n\n\n\n\n\n\n\nDer Literaturbetrieb hat ein Repräsentationsproblem. FLINTA*-Autor*innen und queerfeministische Themen werden ignoriert\, in stereotype Rollen gedrängt und finden kaum Sichtbarkeit auf großen Bühnen. Wir haben keine Lust mehr auf Beifahrersitze. Wir nehmen uns den Raum im Feld. Mit Geschichten\, die nicht angepasst\, entschärft oder erklärt werden müssen. \n\n\n\n\n\n\n\nLesen in Ehren*feld ist eine neue Lesereihe in Köln Ehrenfeld\, die FLINTA*-Perspektiven sichtbar macht – ungefiltert\, ungeordnet\, unverschämt wichtig. \n\n\n\n\n\n\n\nZur dritten Ausgabe lesen wir aus „Es braucht nicht viel“ von Helena Steinhaus (und Claudia Cornelsen) – einem Sachbuch\, was den deutschen Sozialstaat in Verantwortung nehmen möchte und wie mit Menschen in Armut umgegangen wird. \n\n\n\n\n\n\n\n📅 Wann: 24.03.2026\, 19:00 Uhr📍 Wo: Bürgerzentrum Ehrenfeld🎤 Moderation: Samson Grzybek (Queermed Gründer*in\, Autor*in\, Podcasthost) \n\n\n\n\n\n\n\nKommt vorbei\, hört zu\, bringt Fragen mit – oder einfach euch selbst. \n\n\n\n\n\n\n\nFür alle\, die FLINTA-Stimmen lesen\, hören und feiern wollen. \n\n\n\n\n\n\n\nCredits: Jana Rodenbusch (Samson) und Oliver Betke (Helena) \n\n\n\n\n\n\n\n#LesenInEhrenfeld #KölnLiest #FLINTA #KölnEhrenfeld  #BüZeEhrenfeld 
URL:https://bueze.de/event/lesen-in-ehrenfeld-queerfeministische-lesereihe-in-koeln-2/
ATTACH;FMTTYPE=image/png:https://bueze.de/wp-content/uploads/2026/03/Bildschirmfoto-2026-03-17-um-14.42.33.png
END:VEVENT
BEGIN:VEVENT
DTSTART;TZID=Europe/Berlin:20260326T190000
DTEND;TZID=Europe/Berlin:20260326T210000
DTSTAMP:20260425T141533
CREATED:20260212T152245Z
LAST-MODIFIED:20260218T092142Z
UID:3225-1774551600-1774558800@bueze.de
SUMMARY:Offene Bühne im Café Fridolin
DESCRIPTION:Es ist wieder soweit! Die offene Bühne lädt dazu ein\, den Abend gemeinsam ausklingen zu lassen. \n\n\n\n\n\n\n\nAb 19 Uhr kann dafür den Künstler*innen im Café Fridolin zugehört werden. \n\n\n\n\n\n\n\nDanke @schreibwerkstattkoeln schon im Voraus für die Moderation des Abends. \n\n\n\n\n\n\n\nDie offene Bühne ist frei von Rassismus\, Sexismus\, Homofeindlichkeit und jeglicher Art von Intoleranz und Ausgrenzung. Wir bitten alle Besucher*innen um ein respektvolles Miteinander. \n\n\n\n\n\n\n\nUm euch anzumelden\, könnt ihr euch einfach bei uns auf Instagram melden: @cafefridolin \n\n\n\n\n\n\n\nBild: @nicoberka
URL:https://bueze.de/event/offene-buehne-im-cafe-fridolin-4/
ATTACH;FMTTYPE=image/jpeg:https://bueze.de/wp-content/uploads/2023/12/2022-07-14_Grooveyard-meets-offene-Buehne-285-scaled.jpg
END:VEVENT
BEGIN:VEVENT
DTSTART;TZID=Europe/Berlin:20260326T190000
DTEND;TZID=Europe/Berlin:20260326T230000
DTSTAMP:20260425T141533
CREATED:20260212T153011Z
LAST-MODIFIED:20260212T153012Z
UID:3228-1774551600-1774566000@bueze.de
SUMMARY:Terre des Homme – Kneipenquiz
DESCRIPTION:Habt einen tollen Abend rund um nützliches und unnützes Wissen aus allen möglichen Bereichen!  \n\n\n\n\n\n\n\nTeams bilden – fragt im Bekanntenkreis herum und schließt euch mit 3 – 6 Personen zusammen.  \n\n\n\n\n\n\n\nGebt euch einen Teamnamen! Anmeldung – am besten per Email mit: Teilnehmer*innenanzahl\, Email-Adresse einer Kontaktperson und – wenn möglich – schon einem Teamnamen: koeln@tdh-AG.de  \n\n\n\n\n\n\n\nAnmeldungen bis zwei Tage im Voraus möglich\, Anmeldestopp bei 20 Teams. \n\n\n\n\n\n\n\nEin Teilnahmebeitrag von 7 € pro Person wird am Einlass der Veranstaltung eingesammelt \n\n\n\nAlso Köpfe rauchen lassen\, Spaß haben\, im besten Fall gewinnen: Die ersten drei Teams werden prämiert – es lohnt sich!
URL:https://bueze.de/event/terre-des-homme-kneipenquiz/
ATTACH;FMTTYPE=image/png:https://bueze.de/wp-content/uploads/2025/03/Bildschirmfoto-2024-03-26-um-11.55.26.png
END:VEVENT
BEGIN:VEVENT
DTSTART;TZID=Europe/Berlin:20260327T200000
DTEND;TZID=Europe/Berlin:20260327T223000
DTSTAMP:20260425T141533
CREATED:20250924T130126Z
LAST-MODIFIED:20260317T133747Z
UID:2739-1774641600-1774650600@bueze.de
SUMMARY:Herz aus Stacheldraht - Lesung mit Sophia Maier
DESCRIPTION:TV-Reporterin @_sophiamaier kommt mit ihrem Buch „Herz aus Stacheldraht“ zu uns ins BüzE🔥 \n\n\n\n\n\n\n\n27.03.2026 – 20.00 Uhr  \n\n\n\n\n\n\n\nZwischen Krieg und Hoffnung – Ein Plädoyer für Menschlichkeit❗️ \n\n\n\n\n\n\n\nAufgrund dringender Reparaturarbeiten im BüzE muss die für den 7. Februar 2026 geplante Lesung von Sophia Maier leider verlegt werden. Der neue Termin ist der 27. März 2026. \n\n\n\n\n\n\n\nDie Reparaturmaßnahmen sind kurzfristig notwendig geworden und lassen eine Durchführung der Lesung zum ursprünglichen Termin leider nicht zu. Wir bitten Sie hierfür um Ihr Verständnis. Bereits erworbene Eintrittskarten behalten selbstverständlich ihre Gültigkeit für den neuen Termin. Sollten Sie den Ersatztermin nicht wahrnehmen können\, wenden Sie sich bitte unter Angabe ihrer Bestellnummer an support@tixforgigs.com. \n\n\n\n\n\n\n\nDas BüzE freut sich umso mehr auf die Lesung am 27. März 2026. \n\n\n\n\n\n\n\nWas bleibt von der Menschlichkeit\, wenn wir einfach wegsehen? „Herz aus Stacheldraht“ ist ein bewegender Blick auf die Wirklichkeit von Krieg und Flucht – ehrlich\, nah und unbequem. Die preisgekrönte Journalistin nimmt dich mit in die Krisengebiete der Welt: in die Ukraine\, nach Afghanistan\, Syrien\, in Geflüchtetenlager im Libanon\, Westjordanland oder nach Griechenland. Dort trifft sie Frauen\, Kinder\, Familien – Menschen\, die alles verloren haben. \n\n\n\n\n\n\n\nMit schonungsloser Klarheit erzählt sie von Zerstörung\, Verlust und Hoffnung\, stellt unbequeme Fragen zur Verantwortung des Westens und dokumentiert das Leben in Ausnahmesituationen. \n\n\n\nMaier begegnet Menschen\, die für Gerechtigkeit kämpfen – und damit zeigen\, dass Menschlichkeit nie ganz verloren geht. Ihr Buch ist eine Mahnung und ein Aufruf zum Hinsehen. \n\n\n\nSophia Maier ist Kriegsreporterin mit langjähriger Erfahrung. Sie berichtet weltweit aus Krisengebieten mit besonderem Fokus auf Frauen und Kinder. Mit journalistischer Präzision und menschlicher Tiefe schafft sie ein Werk\, das aufrüttelt – und zum Handeln bewegt. \n\n\n\n\n\n\n\nEin Abend mit Texten\, Bildern und Videos aus ihrer Arbeit über eine Welt im Ausnahmezustand und die Frage\, was Menschlichkeit und Verantwortung heute bedeuten. \n\n\n\nTickets: https://www.tixforgigs.com/Event/68094  \n\n\n\n\n\n\n\nFoto-Credits: Sebastian Knoth
URL:https://bueze.de/event/herz-aus-stacheldraht-lesung-mit-sophia-maier/
ATTACH;FMTTYPE=image/jpeg:https://bueze.de/wp-content/uploads/2025/09/sophia_maier_lesetour_herzausstacheldraht_post_1080x1350_KOELN.jpg
END:VEVENT
END:VCALENDAR